BEGIN:VCALENDAR
VERSION:2.0
PRODID:-//HockeyNL - ECPv6.15.15//NONSGML v1.0//EN
CALSCALE:GREGORIAN
METHOD:PUBLISH
X-WR-CALNAME:HockeyNL
X-ORIGINAL-URL:https://hockeynl.ca
X-WR-CALDESC:Events for HockeyNL
REFRESH-INTERVAL;VALUE=DURATION:PT1H
X-Robots-Tag:noindex
X-PUBLISHED-TTL:PT1H
BEGIN:VTIMEZONE
TZID:UTC
BEGIN:STANDARD
TZOFFSETFROM:+0000
TZOFFSETTO:+0000
TZNAME:UTC
DTSTART:20250101T000000
END:STANDARD
END:VTIMEZONE
BEGIN:VEVENT
DTSTART;VALUE=DATE:20260412
DTEND;VALUE=DATE:20260420
DTSTAMP:20260420T081651
CREATED:20260312T154337Z
LAST-MODIFIED:20260312T154337Z
UID:17421-1775952000-1776643199@hockeynl.ca
SUMMARY:Metro U11 Spring Meltdown - Goulds 2026 Invitational
DESCRIPTION:
URL:https://hockeynl.ca/event/metro-u11-spring-meltdown-goulds-2026-invitational/
LOCATION:Gould’s Arena\, Main Rd\, St. John's\, Newfoundland and Labrador\, A1S 1C1\, Canada
CATEGORIES:Tournament
END:VEVENT
BEGIN:VEVENT
DTSTART;VALUE=DATE:20260413
DTEND;VALUE=DATE:20260420
DTSTAMP:20260420T081651
CREATED:20260213T133747Z
LAST-MODIFIED:20260213T133747Z
UID:17191-1776038400-1776643199@hockeynl.ca
SUMMARY:The Boyle Cup 2026- Tier 2 High School
DESCRIPTION:
URL:https://hockeynl.ca/event/the-boyle-cup-2026-tier-2-high-school/
LOCATION:Twin Rinks\, NL\, Canada
CATEGORIES:Tournament
ORGANIZER;CN="Tony Pomroy":MAILTO:tonypomroy@nlschools.ca
END:VEVENT
BEGIN:VEVENT
DTSTART;VALUE=DATE:20260413
DTEND;VALUE=DATE:20260420
DTSTAMP:20260420T081651
CREATED:20260408T132627Z
LAST-MODIFIED:20260408T132627Z
UID:17876-1776038400-1776643199@hockeynl.ca
SUMMARY:Royal Newfoundland Regiment Memorial High School Hockey Tournament
DESCRIPTION:
URL:https://hockeynl.ca/event/royal-newfoundland-regiment-memorial-high-school-hockey-tournament-4/
LOCATION:Paradise Double Ice Complex\, Paradise\, Newfoundland\, Canada
CATEGORIES:Tournament
ORGANIZER;CN="Ken Gatehouse":MAILTO:deputydirector.rnfldrhockey@gmail.com
END:VEVENT
BEGIN:VEVENT
DTSTART;VALUE=DATE:20260416
DTEND;VALUE=DATE:20260420
DTSTAMP:20260420T081651
CREATED:20251128T163107Z
LAST-MODIFIED:20260309T120726Z
UID:16440-1776297600-1776643199@hockeynl.ca
SUMMARY:U13 Atlantic Championship
DESCRIPTION:
URL:https://hockeynl.ca/event/u13-atlantic-championship/
LOCATION:Halifax\, NS
CATEGORIES:Tournament
END:VEVENT
BEGIN:VEVENT
DTSTART;VALUE=DATE:20260416
DTEND;VALUE=DATE:20260420
DTSTAMP:20260420T081651
CREATED:20251128T163141Z
LAST-MODIFIED:20260206T133127Z
UID:16443-1776297600-1776643199@hockeynl.ca
SUMMARY:U13 Female Atlantic Championship
DESCRIPTION:
URL:https://hockeynl.ca/event/u13-female-atlantic-championship/
LOCATION:Cape Breton Blizzard\, Sydney\, NS\, B1M1A2\, Canada
CATEGORIES:Tournament
ORGANIZER;CN="Erica Porter":MAILTO:eporter@hockeynovascotia.ca
END:VEVENT
BEGIN:VEVENT
DTSTART;VALUE=DATE:20260416
DTEND;VALUE=DATE:20260420
DTSTAMP:20260420T081651
CREATED:20251128T163215Z
LAST-MODIFIED:20260206T133957Z
UID:16445-1776297600-1776643199@hockeynl.ca
SUMMARY:U15 Atlantic Championship
DESCRIPTION:
URL:https://hockeynl.ca/event/u15-atlantic-championship/
LOCATION:Clarenville\, NL\, Clarenville\, NL\, Canada
CATEGORIES:Tournament
ORGANIZER;CN="Craig Tulk":MAILTO:ctulk@hockeynl.ca
END:VEVENT
BEGIN:VEVENT
DTSTART;VALUE=DATE:20260416
DTEND;VALUE=DATE:20260420
DTSTAMP:20260420T081651
CREATED:20251128T163317Z
LAST-MODIFIED:20260206T133526Z
UID:16448-1776297600-1776643199@hockeynl.ca
SUMMARY:U15 Female Atlantic Championship
DESCRIPTION:
URL:https://hockeynl.ca/event/u15-female-atlantic-championship/
LOCATION:Torbay\, Torbay\, NL\, Canada
CATEGORIES:Tournament
ORGANIZER;CN="Marcus Power":MAILTO:mpower@hockeynl.ca
END:VEVENT
END:VCALENDAR