BEGIN:VCALENDAR
VERSION:2.0
PRODID:-//HockeyNL - ECPv6.15.15//NONSGML v1.0//EN
CALSCALE:GREGORIAN
METHOD:PUBLISH
X-ORIGINAL-URL:https://hockeynl.ca
X-WR-CALDESC:Events for HockeyNL
REFRESH-INTERVAL;VALUE=DURATION:PT1H
X-Robots-Tag:noindex
X-PUBLISHED-TTL:PT1H
BEGIN:VTIMEZONE
TZID:UTC
BEGIN:STANDARD
TZOFFSETFROM:+0000
TZOFFSETTO:+0000
TZNAME:UTC
DTSTART:20190101T000000
END:STANDARD
END:VTIMEZONE
BEGIN:VEVENT
DTSTART;VALUE=DATE:20240914
DTEND;VALUE=DATE:20240915
DTSTAMP:20260419T124039
CREATED:20240807T170109Z
LAST-MODIFIED:20240807T170151Z
UID:12585-1726272000-1726358399@hockeynl.ca
SUMMARY:Hockey NL September Divisional Operational Meetings
DESCRIPTION:Minor and Female Delegates only
URL:https://hockeynl.ca/event/hockey-nl-september-divisional-operational-meetings/
LOCATION:Albatross Hotel\, Gander\, NL\, Canada
CATEGORIES:Meeting
END:VEVENT
BEGIN:VEVENT
DTSTART;VALUE=DATE:20240607
DTEND;VALUE=DATE:20240609
DTSTAMP:20260419T124039
CREATED:20240513T162938Z
LAST-MODIFIED:20240513T162938Z
UID:12134-1717718400-1717891199@hockeynl.ca
SUMMARY:Hockey NL AGM
DESCRIPTION:
URL:https://hockeynl.ca/event/hockey-nl-agm/
LOCATION:Albatross Hotel\, Gander\, NL\, Canada
CATEGORIES:Meeting
END:VEVENT
BEGIN:VEVENT
DTSTART;VALUE=DATE:20211210
DTEND;VALUE=DATE:20211212
DTSTAMP:20260419T124039
CREATED:20210902T130915Z
LAST-MODIFIED:20210902T130915Z
UID:6696-1639094400-1639267199@hockeynl.ca
SUMMARY:Second Minor Grading Meeting
DESCRIPTION:
URL:https://hockeynl.ca/event/second-minor-grading-meeting/
LOCATION:St. John’s\, NL\, St. John's\, NL\, Canada
CATEGORIES:Meeting
ORGANIZER;CN="Gonzo Bennett":MAILTO:gbennett@hockeynl.ca
END:VEVENT
BEGIN:VEVENT
DTSTART;VALUE=DATE:20210910
DTEND;VALUE=DATE:20210912
DTSTAMP:20260419T124039
CREATED:20210902T130209Z
LAST-MODIFIED:20210902T130726Z
UID:6687-1631232000-1631404799@hockeynl.ca
SUMMARY:First Minor Grading Meeting
DESCRIPTION:
URL:https://hockeynl.ca/event/first-minor-grading-meeting/
LOCATION:Clarenville\, NL\, Clarenville\, NL\, Canada
CATEGORIES:Meeting
ORGANIZER;CN="Gonzo Bennett":MAILTO:gbennett@hockeynl.ca
END:VEVENT
BEGIN:VEVENT
DTSTART;VALUE=DATE:20210611
DTEND;VALUE=DATE:20210614
DTSTAMP:20260419T124039
CREATED:20200130T145925Z
LAST-MODIFIED:20200130T145925Z
UID:2354-1623369600-1623628799@hockeynl.ca
SUMMARY:2021 Hockey NL AGM
DESCRIPTION:
URL:https://hockeynl.ca/event/2021-hockey-nl-agm/
LOCATION:NL
CATEGORIES:Meeting
END:VEVENT
BEGIN:VEVENT
DTSTART;VALUE=DATE:20200918
DTEND;VALUE=DATE:20200921
DTSTAMP:20260419T124039
CREATED:20200130T145925Z
LAST-MODIFIED:20200130T145925Z
UID:2353-1600387200-1600646399@hockeynl.ca
SUMMARY:2020 Hockey NL Fall Meeting
DESCRIPTION:
URL:https://hockeynl.ca/event/2020-hockey-nl-fall-meeting/
LOCATION:NL
CATEGORIES:Meeting
END:VEVENT
BEGIN:VEVENT
DTSTART;VALUE=DATE:20200612
DTEND;VALUE=DATE:20200615
DTSTAMP:20260419T124039
CREATED:20200130T145924Z
LAST-MODIFIED:20200130T145924Z
UID:2352-1591920000-1592179199@hockeynl.ca
SUMMARY:2020 Hockey NL AGM
DESCRIPTION:
URL:https://hockeynl.ca/event/2020-hockey-nl-agm/
LOCATION:NL
CATEGORIES:Meeting
END:VEVENT
BEGIN:VEVENT
DTSTART;VALUE=DATE:20200528
DTEND;VALUE=DATE:20200531
DTSTAMP:20260419T124039
CREATED:20200130T145930Z
LAST-MODIFIED:20200130T145930Z
UID:2383-1590624000-1590883199@hockeynl.ca
SUMMARY:2020 Hockey Canada Spring Congress
DESCRIPTION:
URL:https://hockeynl.ca/event/2020-hockey-canada-spring-congress/
LOCATION:NL
CATEGORIES:Meeting
END:VEVENT
BEGIN:VEVENT
DTSTART;VALUE=DATE:20200116
DTEND;VALUE=DATE:20200120
DTSTAMP:20260419T124039
CREATED:20200130T145930Z
LAST-MODIFIED:20200130T145930Z
UID:2382-1579132800-1579478399@hockeynl.ca
SUMMARY:Atlantic Branch Meetings
DESCRIPTION:
URL:https://hockeynl.ca/event/atlantic-branch-meetings/
LOCATION:NL
CATEGORIES:Meeting
END:VEVENT
END:VCALENDAR