BEGIN:VCALENDAR
VERSION:2.0
PRODID:-//HockeyNL - ECPv6.15.15//NONSGML v1.0//EN
CALSCALE:GREGORIAN
METHOD:PUBLISH
X-WR-CALNAME:HockeyNL
X-ORIGINAL-URL:https://hockeynl.ca
X-WR-CALDESC:Events for HockeyNL
REFRESH-INTERVAL;VALUE=DURATION:PT1H
X-Robots-Tag:noindex
X-PUBLISHED-TTL:PT1H
BEGIN:VTIMEZONE
TZID:UTC
BEGIN:STANDARD
TZOFFSETFROM:+0000
TZOFFSETTO:+0000
TZNAME:UTC
DTSTART:20240101T000000
END:STANDARD
END:VTIMEZONE
BEGIN:VEVENT
DTSTART;VALUE=DATE:20251229
DTEND;VALUE=DATE:20260105
DTSTAMP:20260420T131350
CREATED:20251219T135006Z
LAST-MODIFIED:20251219T135006Z
UID:16635-1766966400-1767571199@hockeynl.ca
SUMMARY:Holiday Girls Tournament
DESCRIPTION:
URL:https://hockeynl.ca/event/holiday-girls-tournament/
LOCATION:Paradise Double Ice Complex\, Paradise\, Newfoundland\, Canada
CATEGORIES:Tournament
ORGANIZER;CN="Mark Walsh":MAILTO:markwalsh@paradiseminorhockey.ca
END:VEVENT
BEGIN:VEVENT
DTSTART;VALUE=DATE:20251230
DTEND;VALUE=DATE:20260105
DTSTAMP:20260420T131350
CREATED:20251219T134901Z
LAST-MODIFIED:20251219T134901Z
UID:16633-1767052800-1767571199@hockeynl.ca
SUMMARY:George Dupont
DESCRIPTION:
URL:https://hockeynl.ca/event/george-dupont/
LOCATION:Paradise Double Ice Complex\, Paradise\, Newfoundland\, Canada
CATEGORIES:Tournament
END:VEVENT
END:VCALENDAR