BEGIN:VCALENDAR
VERSION:2.0
PRODID:-//HockeyNL - ECPv6.15.15//NONSGML v1.0//EN
CALSCALE:GREGORIAN
METHOD:PUBLISH
X-ORIGINAL-URL:https://hockeynl.ca
X-WR-CALDESC:Events for HockeyNL
REFRESH-INTERVAL;VALUE=DURATION:PT1H
X-Robots-Tag:noindex
X-PUBLISHED-TTL:PT1H
BEGIN:VTIMEZONE
TZID:UTC
BEGIN:STANDARD
TZOFFSETFROM:+0000
TZOFFSETTO:+0000
TZNAME:UTC
DTSTART:20250101T000000
END:STANDARD
END:VTIMEZONE
BEGIN:VEVENT
DTSTART;VALUE=DATE:20260206
DTEND;VALUE=DATE:20260216
DTSTAMP:20260420T115241
CREATED:20260109T155345Z
LAST-MODIFIED:20260109T155345Z
UID:16776-1770336000-1771199999@hockeynl.ca
SUMMARY:CBS Jr & Sr High Shield (Male and Female)
DESCRIPTION:
URL:https://hockeynl.ca/event/cbs-jr-sr-high-shield-male-and-female-2/
LOCATION:CBS Arena\, Canada
CATEGORIES:Tournament
ORGANIZER;CN="Chad Brinson":MAILTO:chad.brinson@conceptionbaysouth.ca
END:VEVENT
BEGIN:VEVENT
DTSTART;VALUE=DATE:20260206
DTEND;VALUE=DATE:20260309
DTSTAMP:20260420T115241
CREATED:20260123T163906Z
LAST-MODIFIED:20260123T163906Z
UID:16997-1770336000-1773014399@hockeynl.ca
SUMMARY:U13 Femaleb Holly Goudie Memorial
DESCRIPTION:
URL:https://hockeynl.ca/event/u13-femaleb-holly-goudie-memorial/
LOCATION:Springdale Stadium Complex
CATEGORIES:Tournament
ORGANIZER;CN="Crissie Downey":MAILTO:crissiecroucher52@hotmail.com
END:VEVENT
BEGIN:VEVENT
DTSTART;VALUE=DATE:20260212
DTEND;VALUE=DATE:20260216
DTSTAMP:20260420T115241
CREATED:20260206T150110Z
LAST-MODIFIED:20260206T150110Z
UID:17156-1770854400-1771199999@hockeynl.ca
SUMMARY:Confederation Cup 2026
DESCRIPTION:
URL:https://hockeynl.ca/event/confederation-cup-2026/
LOCATION:Paradise Double Ice Complex\, Paradise\, Newfoundland\, Canada
CATEGORIES:Tournament
ORGANIZER;CN="Christopher Druken":MAILTO:christopherdruken@nlschools.ca
END:VEVENT
BEGIN:VEVENT
DTSTART;VALUE=DATE:20260213
DTEND;VALUE=DATE:20260216
DTSTAMP:20260420T115241
CREATED:20250924T123202Z
LAST-MODIFIED:20250924T124925Z
UID:15928-1770940800-1771199999@hockeynl.ca
SUMMARY:Ken Woodman Memorial U15 Tournament
DESCRIPTION:
URL:https://hockeynl.ca/event/ken-woodman-memorial-u15-tournament/
LOCATION:Trinity Placentia Arena\, Whitbourne\, NL\, Canada
CATEGORIES:Tournament
ORGANIZER;CN="shane reid":MAILTO:shanereid1986@hotmail.com
END:VEVENT
BEGIN:VEVENT
DTSTART;VALUE=DATE:20260213
DTEND;VALUE=DATE:20260216
DTSTAMP:20260420T115241
CREATED:20251105T180111Z
LAST-MODIFIED:20251105T180111Z
UID:16186-1770940800-1771199999@hockeynl.ca
SUMMARY:Female U13 AAA League Weekend #2
DESCRIPTION:
URL:https://hockeynl.ca/event/female-u13-aaa-league-weekend-2-2/
LOCATION:To Be Determined\, NL\, Canada
CATEGORIES:Tournament
END:VEVENT
BEGIN:VEVENT
DTSTART;VALUE=DATE:20260213
DTEND;VALUE=DATE:20260216
DTSTAMP:20260420T115241
CREATED:20251128T164452Z
LAST-MODIFIED:20251128T164452Z
UID:16464-1770940800-1771199999@hockeynl.ca
SUMMARY:U13 AAA Division Week 7
DESCRIPTION:
URL:https://hockeynl.ca/event/u13-aaa-division-week-7/
LOCATION:Gander\, NL\, 100 Elizabeth Drive\, Gander\, Newfoundland\, A1V 1G7\, Canada
CATEGORIES:Tournament
ORGANIZER;CN="Robert Bouzane":MAILTO:rbouzane@hockeynl.ca
END:VEVENT
BEGIN:VEVENT
DTSTART;VALUE=DATE:20260213
DTEND;VALUE=DATE:20260216
DTSTAMP:20260420T115241
CREATED:20251128T170010Z
LAST-MODIFIED:20251128T170010Z
UID:16492-1770940800-1771199999@hockeynl.ca
SUMMARY:U16 AAA Division Week 7
DESCRIPTION:
URL:https://hockeynl.ca/event/u16-aaa-division-week-7/
LOCATION:Marystown\, NL\, Canada
CATEGORIES:Tournament
ORGANIZER;CN="Robert Bouzane":MAILTO:rbouzane@hockeynl.ca
END:VEVENT
BEGIN:VEVENT
DTSTART;VALUE=DATE:20260213
DTEND;VALUE=DATE:20260216
DTSTAMP:20260420T115241
CREATED:20260109T154808Z
LAST-MODIFIED:20260109T154808Z
UID:16762-1770940800-1771199999@hockeynl.ca
SUMMARY:Fogo Island Minor Hockey U11 Invitational Tournament
DESCRIPTION:
URL:https://hockeynl.ca/event/fogo-island-minor-hockey-u11-invitational-tournament/
LOCATION:Iceberg Arena\, NL\, Canada
CATEGORIES:Tournament
ORGANIZER;CN="Cindy Broders":MAILTO:cindybroders16@hotmail.com
END:VEVENT
BEGIN:VEVENT
DTSTART;VALUE=DATE:20260213
DTEND;VALUE=DATE:20260216
DTSTAMP:20260420T115241
CREATED:20260116T150051Z
LAST-MODIFIED:20260116T150051Z
UID:16875-1770940800-1771199999@hockeynl.ca
SUMMARY:Stephenville U11 Invitational
DESCRIPTION:
URL:https://hockeynl.ca/event/stephenville-u11-invitational/
LOCATION:Stephenville Dome\, -\, Stephenville\, NL\, A0A 1G0\, Canada
CATEGORIES:Tournament
ORGANIZER;CN="Jodi barron":MAILTO:jodee3@hotmail.com
END:VEVENT
BEGIN:VEVENT
DTSTART;VALUE=DATE:20260213
DTEND;VALUE=DATE:20260216
DTSTAMP:20260420T115241
CREATED:20260123T145544Z
LAST-MODIFIED:20260123T145544Z
UID:16981-1770940800-1771199999@hockeynl.ca
SUMMARY:Exploits Rapids U15 Invitational
DESCRIPTION:
URL:https://hockeynl.ca/event/exploits-rapids-u15-invitational/
LOCATION:Botwood\, NL\, Pleasantview Road\, Botwood\, NL\, A0H 1E0\, Canada
CATEGORIES:Tournament
ORGANIZER;CN="Jennifer Foss":MAILTO:foss.jen@gmail.com
END:VEVENT
BEGIN:VEVENT
DTSTART;VALUE=DATE:20260213
DTEND;VALUE=DATE:20260216
DTSTAMP:20260420T115241
CREATED:20260205T145948Z
LAST-MODIFIED:20260205T150014Z
UID:17114-1770940800-1771199999@hockeynl.ca
SUMMARY:Lake Melville Xtreme Mega Tournament
DESCRIPTION:
URL:https://hockeynl.ca/event/lmx-mega/
LOCATION:Happy Valley-Goose Bay\, Happy Valley-Goose Bay\, NL\, Canada
CATEGORIES:Tournament
ORGANIZER;CN="Eric Power":MAILTO:ericpower@nlschools.ca
END:VEVENT
BEGIN:VEVENT
DTSTART;VALUE=DATE:20260213
DTEND;VALUE=DATE:20260216
DTSTAMP:20260420T115241
CREATED:20260206T145156Z
LAST-MODIFIED:20260206T145156Z
UID:17150-1770940800-1771199999@hockeynl.ca
SUMMARY:Green Bay South U18 Invitational Tournament
DESCRIPTION:
URL:https://hockeynl.ca/event/green-bay-south-u18-invitational-tournament-2/
LOCATION:Green Bay South Arena\, Canada
CATEGORIES:Tournament
ORGANIZER;CN="Jeremy Winsor":MAILTO:jeremyjwinsor@outlook.com
END:VEVENT
BEGIN:VEVENT
DTSTART;VALUE=DATE:20260213
DTEND;VALUE=DATE:20260216
DTSTAMP:20260420T115241
CREATED:20260206T145400Z
LAST-MODIFIED:20260206T145400Z
UID:17153-1770940800-1771199999@hockeynl.ca
SUMMARY:U15 Invitational Tournament
DESCRIPTION:
URL:https://hockeynl.ca/event/u15-invitational-tournament-2/
LOCATION:George Hawkins Memorial Arena\, Twillingate\, Newfoundland\, Canada
CATEGORIES:Tournament
ORGANIZER;CN="Justin Blackler":MAILTO:blackler52@hotmail.com
END:VEVENT
END:VCALENDAR