BEGIN:VCALENDAR
VERSION:2.0
PRODID:-//HockeyNL - ECPv6.15.15//NONSGML v1.0//EN
CALSCALE:GREGORIAN
METHOD:PUBLISH
X-ORIGINAL-URL:https://hockeynl.ca
X-WR-CALDESC:Events for HockeyNL
REFRESH-INTERVAL;VALUE=DURATION:PT1H
X-Robots-Tag:noindex
X-PUBLISHED-TTL:PT1H
BEGIN:VTIMEZONE
TZID:UTC
BEGIN:STANDARD
TZOFFSETFROM:+0000
TZOFFSETTO:+0000
TZNAME:UTC
DTSTART:20250101T000000
END:STANDARD
END:VTIMEZONE
BEGIN:VEVENT
DTSTART;VALUE=DATE:20260206
DTEND;VALUE=DATE:20260309
DTSTAMP:20260420T103810
CREATED:20260123T163906Z
LAST-MODIFIED:20260123T163906Z
UID:16997-1770336000-1773014399@hockeynl.ca
SUMMARY:U13 Femaleb Holly Goudie Memorial
DESCRIPTION:
URL:https://hockeynl.ca/event/u13-femaleb-holly-goudie-memorial/
LOCATION:Springdale Stadium Complex
CATEGORIES:Tournament
ORGANIZER;CN="Crissie Downey":MAILTO:crissiecroucher52@hotmail.com
END:VEVENT
BEGIN:VEVENT
DTSTART;VALUE=DATE:20260305
DTEND;VALUE=DATE:20260309
DTSTAMP:20260420T103810
CREATED:20260303T175308Z
LAST-MODIFIED:20260303T175308Z
UID:17295-1772668800-1773014399@hockeynl.ca
SUMMARY:Art Tilley
DESCRIPTION:
URL:https://hockeynl.ca/event/art-tilley-2/
LOCATION:CBS Arena\, Canada
CATEGORIES:Tournament
ORGANIZER;CN="Patrick Carroll":MAILTO:patrickcarroll@nlschools.ca
END:VEVENT
BEGIN:VEVENT
DTSTART;VALUE=DATE:20260306
DTEND;VALUE=DATE:20260309
DTSTAMP:20260420T103810
CREATED:20251105T180537Z
LAST-MODIFIED:20260220T131346Z
UID:16208-1772755200-1773014399@hockeynl.ca
SUMMARY:Female U18 AA League Finals
DESCRIPTION:
URL:https://hockeynl.ca/event/female-u18-aa-league-finals/
LOCATION:Grand Falls-Windsor\, Grand Falls-Windsor\, NL
CATEGORIES:Tournament
END:VEVENT
BEGIN:VEVENT
DTSTART;VALUE=DATE:20260306
DTEND;VALUE=DATE:20260309
DTSTAMP:20260420T103810
CREATED:20251121T144147Z
LAST-MODIFIED:20251121T144147Z
UID:16394-1772755200-1773014399@hockeynl.ca
SUMMARY:U15 Placentia Lions Invitational
DESCRIPTION:
URL:https://hockeynl.ca/event/u15-placentia-lions-invitational/
LOCATION:Placentia\, Placentia\, NL\, Canada
CATEGORIES:Tournament
ORGANIZER;CN="Rhonda Griffiths":MAILTO:da_da80@hotmail.com
END:VEVENT
BEGIN:VEVENT
DTSTART;VALUE=DATE:20260306
DTEND;VALUE=DATE:20260309
DTSTAMP:20260420T103810
CREATED:20260116T145335Z
LAST-MODIFIED:20260116T145335Z
UID:16868-1772755200-1773014399@hockeynl.ca
SUMMARY:CAMHA U18 (2) Tournament
DESCRIPTION:
URL:https://hockeynl.ca/event/camha-u18-2-tournament-2/
LOCATION:Clarenville\, NL\, Clarenville\, NL\, Canada
CATEGORIES:Tournament
ORGANIZER;CN="Chasity Frost":MAILTO:chasityfrost@hotmail.com
END:VEVENT
BEGIN:VEVENT
DTSTART;VALUE=DATE:20260306
DTEND;VALUE=DATE:20260309
DTSTAMP:20260420T103810
CREATED:20260206T150453Z
LAST-MODIFIED:20260206T150453Z
UID:17160-1772755200-1773014399@hockeynl.ca
SUMMARY:Stefan Hopkins Memorial Under 11 Tournament
DESCRIPTION:
URL:https://hockeynl.ca/event/stefan-hopkins-memorial-under-11-tournament/
LOCATION:Deer Lake
CATEGORIES:Tournament
ORGANIZER;CN="Stephen Peddle":MAILTO:dimhapresident@gmail.com
END:VEVENT
BEGIN:VEVENT
DTSTART;VALUE=DATE:20260306
DTEND;VALUE=DATE:20260309
DTSTAMP:20260420T103810
CREATED:20260206T181832Z
LAST-MODIFIED:20260206T181832Z
UID:17165-1772755200-1773014399@hockeynl.ca
SUMMARY:Concorde Cup ( Female)
DESCRIPTION:
URL:https://hockeynl.ca/event/concorde-cup-female/
LOCATION:Gander Community Centre\, Gander\, NL\, Canada
CATEGORIES:Tournament
ORGANIZER;CN="Stephen Ash":MAILTO:stephenash@nlschools.ca
END:VEVENT
BEGIN:VEVENT
DTSTART;VALUE=DATE:20260306
DTEND;VALUE=DATE:20260309
DTSTAMP:20260420T103810
CREATED:20260218T143059Z
LAST-MODIFIED:20260218T143059Z
UID:17211-1772755200-1773014399@hockeynl.ca
SUMMARY:Cee Bees Invitational
DESCRIPTION:
URL:https://hockeynl.ca/event/cee-bees-invitational-3/
LOCATION:Cee Bees minor Hockey\, 1 CeeBee Way\, Harbour Grace\, NL A0A 2N0.
CATEGORIES:Tournament
ORGANIZER;CN="Mallory legge":MAILTO:Ceebeespresident@gmail.com
END:VEVENT
BEGIN:VEVENT
DTSTART;VALUE=DATE:20260306
DTEND;VALUE=DATE:20260309
DTSTAMP:20260420T103810
CREATED:20260226T133020Z
LAST-MODIFIED:20260226T133020Z
UID:17257-1772755200-1773014399@hockeynl.ca
SUMMARY:U13 Invitational
DESCRIPTION:
URL:https://hockeynl.ca/event/u13-invitational-5/
LOCATION:Beothic Arena\, Wesleyville\, NL\, Newfoundland\, A0G 4R0\, Canada
CATEGORIES:Tournament
ORGANIZER;CN="Chelsey Earle":MAILTO:chelseyearle@hotmail.com
END:VEVENT
BEGIN:VEVENT
DTSTART;VALUE=DATE:20260306
DTEND;VALUE=DATE:20260309
DTSTAMP:20260420T103810
CREATED:20260226T133429Z
LAST-MODIFIED:20260226T133429Z
UID:17263-1772755200-1773014399@hockeynl.ca
SUMMARY:Bishops Falls U13 2nd Annual CTS Tournament
DESCRIPTION:
URL:https://hockeynl.ca/event/bishops-falls-u13-2nd-annual-cts-tournament/
LOCATION:Bishop Falls\, Bishop's Falls\, NL\, Canada
CATEGORIES:Tournament
ORGANIZER;CN="Tracey Greene":MAILTO:tracey_greene8@hotmail.com
END:VEVENT
BEGIN:VEVENT
DTSTART;VALUE=DATE:20260306
DTEND;VALUE=DATE:20260309
DTSTAMP:20260420T103810
CREATED:20260302T164417Z
LAST-MODIFIED:20260302T164417Z
UID:17289-1772755200-1773014399@hockeynl.ca
SUMMARY:Gros Morne Challenge
DESCRIPTION:
URL:https://hockeynl.ca/event/gros-morne-challenge/
LOCATION:Rocky Harbour\, Rocky Harbour\, NL
CATEGORIES:Tournament
ORGANIZER;CN="vanessa Goobie":MAILTO:dimharegistrar@gmail.com
END:VEVENT
BEGIN:VEVENT
DTSTART;VALUE=DATE:20260306
DTEND;VALUE=DATE:20260309
DTSTAMP:20260420T103810
CREATED:20260302T164532Z
LAST-MODIFIED:20260302T164532Z
UID:17292-1772755200-1773014399@hockeynl.ca
SUMMARY:MMHA U18 Rep 1 Invitational Tournament
DESCRIPTION:
URL:https://hockeynl.ca/event/mmha-u18-rep-1-invitational-tournament/
LOCATION:Marystown\, NL\, Canada
CATEGORIES:Tournament
ORGANIZER;CN="Darren Murphy":MAILTO:dmurphy_39@hotmail.com
END:VEVENT
BEGIN:VEVENT
DTSTART;VALUE=DATE:20260306
DTEND;VALUE=DATE:20260309
DTSTAMP:20260420T103810
CREATED:20260305T141054Z
LAST-MODIFIED:20260305T141054Z
UID:17321-1772755200-1773014399@hockeynl.ca
SUMMARY:Concord Cup (Male and Female)
DESCRIPTION:
URL:https://hockeynl.ca/event/concord-cup-male-and-female/
LOCATION:Gander Community Centre\, Gander\, NL\, Canada
CATEGORIES:Tournament
ORGANIZER;CN="Stephen Ash":MAILTO:stephenash@nlschools.ca
END:VEVENT
END:VCALENDAR