BEGIN:VCALENDAR
VERSION:2.0
PRODID:-//HockeyNL - ECPv6.15.15//NONSGML v1.0//EN
CALSCALE:GREGORIAN
METHOD:PUBLISH
X-WR-CALNAME:HockeyNL
X-ORIGINAL-URL:https://hockeynl.ca
X-WR-CALDESC:Events for HockeyNL
REFRESH-INTERVAL;VALUE=DURATION:PT1H
X-Robots-Tag:noindex
X-PUBLISHED-TTL:PT1H
BEGIN:VTIMEZONE
TZID:UTC
BEGIN:STANDARD
TZOFFSETFROM:+0000
TZOFFSETTO:+0000
TZNAME:UTC
DTSTART:20250101T000000
END:STANDARD
END:VTIMEZONE
BEGIN:VEVENT
DTSTART;VALUE=DATE:20260327
DTEND;VALUE=DATE:20260330
DTSTAMP:20260420T104143
CREATED:20250721T182840Z
LAST-MODIFIED:20250721T182840Z
UID:15661-1774569600-1774828799@hockeynl.ca
SUMMARY:2026 Female U11 & Female U15 Steele Hotels Female Provincial Championships Powered by PAL Airlines
DESCRIPTION:
URL:https://hockeynl.ca/event/2026-female-u11-female-u15-steele-hotels-female-provincial-championships-powered-by-pal-airlines/
LOCATION:Various Locations
CATEGORIES:Tournament
ORGANIZER;CN="Sara Taylor":MAILTO:staylor@hockeynl.ca
END:VEVENT
BEGIN:VEVENT
DTSTART;VALUE=DATE:20260327
DTEND;VALUE=DATE:20260330
DTSTAMP:20260420T104143
CREATED:20260324T183319Z
LAST-MODIFIED:20260324T183319Z
UID:17685-1774569600-1774828799@hockeynl.ca
SUMMARY:U11 Regional Tournament Female
DESCRIPTION:
URL:https://hockeynl.ca/event/u11-regional-tournament-female/
LOCATION:Twin Rinks\, NL\, Canada
CATEGORIES:Tournament
ORGANIZER;CN="Tanya Schwartz":MAILTO:tanyaschwartz15@me.com
END:VEVENT
END:VCALENDAR