BEGIN:VCALENDAR
VERSION:2.0
PRODID:-//HockeyNL - ECPv6.15.15//NONSGML v1.0//EN
CALSCALE:GREGORIAN
METHOD:PUBLISH
X-WR-CALNAME:HockeyNL
X-ORIGINAL-URL:https://hockeynl.ca
X-WR-CALDESC:Events for HockeyNL
REFRESH-INTERVAL;VALUE=DURATION:PT1H
X-Robots-Tag:noindex
X-PUBLISHED-TTL:PT1H
BEGIN:VTIMEZONE
TZID:UTC
BEGIN:STANDARD
TZOFFSETFROM:+0000
TZOFFSETTO:+0000
TZNAME:UTC
DTSTART:20250101T000000
END:STANDARD
END:VTIMEZONE
BEGIN:VEVENT
DTSTART;VALUE=DATE:20260406
DTEND;VALUE=DATE:20260409
DTSTAMP:20260420T092639
CREATED:20250722T111617Z
LAST-MODIFIED:20250722T111617Z
UID:15665-1775433600-1775692799@hockeynl.ca
SUMMARY:2026 U13 & U18 Steele Hotels Provincial Championships Powered by PAL Airlines
DESCRIPTION:
URL:https://hockeynl.ca/event/2026-u13-u18-steele-hotels-provincial-championships-powered-by-pal-airlines/
LOCATION:Various Locations
CATEGORIES:Tournament
ORGANIZER;CN="Greg Barton":MAILTO:g.barton@hockeynl.ca
END:VEVENT
BEGIN:VEVENT
DTSTART;VALUE=DATE:20260406
DTEND;VALUE=DATE:20260409
DTSTAMP:20260420T092639
CREATED:20260226T133302Z
LAST-MODIFIED:20260226T133302Z
UID:17260-1775433600-1775692799@hockeynl.ca
SUMMARY:Bishop's Falls U11 Invitational Tournament
DESCRIPTION:
URL:https://hockeynl.ca/event/bishops-falls-u11-invitational-tournament/
LOCATION:Bishop Falls\, Bishop's Falls\, NL\, Canada
CATEGORIES:Tournament
ORGANIZER;CN="Leslie Ann O'Keefe":MAILTO:stuckless_la@hotmail.com
END:VEVENT
END:VCALENDAR