BEGIN:VCALENDAR
VERSION:2.0
PRODID:-//HockeyNL - ECPv6.15.15//NONSGML v1.0//EN
CALSCALE:GREGORIAN
METHOD:PUBLISH
X-ORIGINAL-URL:https://hockeynl.ca
X-WR-CALDESC:Events for HockeyNL
REFRESH-INTERVAL;VALUE=DURATION:PT1H
X-Robots-Tag:noindex
X-PUBLISHED-TTL:PT1H
BEGIN:VTIMEZONE
TZID:UTC
BEGIN:STANDARD
TZOFFSETFROM:+0000
TZOFFSETTO:+0000
TZNAME:UTC
DTSTART:20250101T000000
END:STANDARD
END:VTIMEZONE
BEGIN:VEVENT
DTSTART;VALUE=DATE:20260409
DTEND;VALUE=DATE:20260412
DTSTAMP:20260420T092203
CREATED:20250722T111700Z
LAST-MODIFIED:20250722T111700Z
UID:15667-1775692800-1775951999@hockeynl.ca
SUMMARY:2026 U11 & U15 Steele Hotels Provincial Championships Powered by PAL Airlines
DESCRIPTION:
URL:https://hockeynl.ca/event/2026-u11-u15-steele-hotels-provincial-championships-powered-by-pal-airlines/
LOCATION:Various Locations
CATEGORIES:Tournament
ORGANIZER;CN="Greg Barton":MAILTO:g.barton@hockeynl.ca
END:VEVENT
BEGIN:VEVENT
DTSTART;VALUE=DATE:20260409
DTEND;VALUE=DATE:20260412
DTSTAMP:20260420T092203
CREATED:20260310T155359Z
LAST-MODIFIED:20260310T155359Z
UID:17405-1775692800-1775951999@hockeynl.ca
SUMMARY:U13 Regional Tournaments
DESCRIPTION:
URL:https://hockeynl.ca/event/u13-regional-tournaments/
LOCATION:Twin Rinks\, NL\, Canada
CATEGORIES:Tournament
ORGANIZER;CN="Jodi Blackwood":MAILTO:administrator@capshockey.ca
END:VEVENT
END:VCALENDAR