BEGIN:VCALENDAR
VERSION:2.0
PRODID:-//HockeyNL - ECPv6.15.15//NONSGML v1.0//EN
CALSCALE:GREGORIAN
METHOD:PUBLISH
X-ORIGINAL-URL:https://hockeynl.ca
X-WR-CALDESC:Events for HockeyNL
REFRESH-INTERVAL;VALUE=DURATION:PT1H
X-Robots-Tag:noindex
X-PUBLISHED-TTL:PT1H
BEGIN:VTIMEZONE
TZID:UTC
BEGIN:STANDARD
TZOFFSETFROM:+0000
TZOFFSETTO:+0000
TZNAME:UTC
DTSTART:20250101T000000
END:STANDARD
END:VTIMEZONE
BEGIN:VEVENT
DTSTART;VALUE=DATE:20260412
DTEND;VALUE=DATE:20260420
DTSTAMP:20260420T092203
CREATED:20260312T154337Z
LAST-MODIFIED:20260312T154337Z
UID:17421-1775952000-1776643199@hockeynl.ca
SUMMARY:Metro U11 Spring Meltdown - Goulds 2026 Invitational
DESCRIPTION:
URL:https://hockeynl.ca/event/metro-u11-spring-meltdown-goulds-2026-invitational/
LOCATION:Gould’s Arena\, Main Rd\, St. John's\, Newfoundland and Labrador\, A1S 1C1\, Canada
CATEGORIES:Tournament
END:VEVENT
END:VCALENDAR