BEGIN:VCALENDAR
VERSION:2.0
PRODID:-//HockeyNL - ECPv6.15.15//NONSGML v1.0//EN
CALSCALE:GREGORIAN
METHOD:PUBLISH
X-WR-CALNAME:HockeyNL
X-ORIGINAL-URL:https://hockeynl.ca
X-WR-CALDESC:Events for HockeyNL
REFRESH-INTERVAL;VALUE=DURATION:PT1H
X-Robots-Tag:noindex
X-PUBLISHED-TTL:PT1H
BEGIN:VTIMEZONE
TZID:UTC
BEGIN:STANDARD
TZOFFSETFROM:+0000
TZOFFSETTO:+0000
TZNAME:UTC
DTSTART:20250101T000000
END:STANDARD
END:VTIMEZONE
BEGIN:VEVENT
DTSTART;VALUE=DATE:20260109
DTEND;VALUE=DATE:20260112
DTSTAMP:20260420T165636
CREATED:20251105T180049Z
LAST-MODIFIED:20251105T180049Z
UID:16184-1767916800-1768175999@hockeynl.ca
SUMMARY:Female U13 AAA League Weekend #2
DESCRIPTION:
URL:https://hockeynl.ca/event/female-u13-aaa-league-weekend-2/
LOCATION:To Be Determined\, NL\, Canada
CATEGORIES:Tournament
END:VEVENT
BEGIN:VEVENT
DTSTART;VALUE=DATE:20260109
DTEND;VALUE=DATE:20260112
DTSTAMP:20260420T165636
CREATED:20251128T165824Z
LAST-MODIFIED:20251128T165824Z
UID:16488-1767916800-1768175999@hockeynl.ca
SUMMARY:U16 AAA Division Week 6
DESCRIPTION:
URL:https://hockeynl.ca/event/u16-aaa-division-week-6/
LOCATION:Rocky Harbour\, Rocky Harbour\, NL
CATEGORIES:Tournament
ORGANIZER;CN="Robert Bouzane":MAILTO:rbouzane@hockeynl.ca
END:VEVENT
BEGIN:VEVENT
DTSTART;VALUE=DATE:20260109
DTEND;VALUE=DATE:20260112
DTSTAMP:20260420T165636
CREATED:20251204T131932Z
LAST-MODIFIED:20251204T131932Z
UID:16535-1767916800-1768175999@hockeynl.ca
SUMMARY:CAMHA U11 Female Tournament
DESCRIPTION:
URL:https://hockeynl.ca/event/camha-u11-female-tournament/
LOCATION:Clarenville\, NL\, Clarenville\, NL\, Canada
CATEGORIES:Tournament
ORGANIZER;CN="Kelly Pitts":MAILTO:kellypitts1975@gmail.com
END:VEVENT
BEGIN:VEVENT
DTSTART;VALUE=DATE:20260109
DTEND;VALUE=DATE:20260112
DTSTAMP:20260420T165636
CREATED:20251219T140250Z
LAST-MODIFIED:20251219T140250Z
UID:16661-1767916800-1768175999@hockeynl.ca
SUMMARY:Roy Curlew Memorial U18
DESCRIPTION:
URL:https://hockeynl.ca/event/roy-curlew-memorial-u18/
LOCATION:Lewisporte Stadium\, Lewisporte\, NL\, Canada
CATEGORIES:Tournament
ORGANIZER;CN="Jacqueline Freake":MAILTO:jacqueline.freake@gmail.com
END:VEVENT
BEGIN:VEVENT
DTSTART;VALUE=DATE:20260109
DTEND;VALUE=DATE:20260112
DTSTAMP:20260420T165636
CREATED:20251230T123658Z
LAST-MODIFIED:20251230T123658Z
UID:16696-1767916800-1768175999@hockeynl.ca
SUMMARY:U15 Rep 1
DESCRIPTION:
URL:https://hockeynl.ca/event/u15-rep-1-2/
LOCATION:Bay Arena\, Bay Roberts\, NL\, Canada
CATEGORIES:Tournament
ORGANIZER;CN="Jacalyn Crane":MAILTO:u13rep2@bayarenarovers.ca
END:VEVENT
BEGIN:VEVENT
DTSTART;VALUE=DATE:20260109
DTEND;VALUE=DATE:20260112
DTSTAMP:20260420T165636
CREATED:20260108T133746Z
LAST-MODIFIED:20260108T133746Z
UID:16744-1767916800-1768175999@hockeynl.ca
SUMMARY:Roy Curlew Memorial Tournament
DESCRIPTION:
URL:https://hockeynl.ca/event/roy-curlew-memorial-tournament-2/
LOCATION:Lewisporte Stadium\, Lewisporte\, NL\, Canada
CATEGORIES:Tournament
ORGANIZER;CN="Julie Woolfrey":MAILTO:juliewoolfrey@hotmail.com
END:VEVENT
BEGIN:VEVENT
DTSTART;VALUE=DATE:20260109
DTEND;VALUE=DATE:20260113
DTSTAMP:20260420T165636
CREATED:20260108T133932Z
LAST-MODIFIED:20260108T133932Z
UID:16746-1767916800-1768262399@hockeynl.ca
SUMMARY:Trevor Granberg Memorial Tournament
DESCRIPTION:
URL:https://hockeynl.ca/event/trevor-granberg-memorial-tournament/
LOCATION:Glovertown Gardens\, Glovertown\, NL\, Canada
CATEGORIES:Tournament
ORGANIZER;CN="Stacy Denty":MAILTO:staceyldenty@hotmail.com
END:VEVENT
BEGIN:VEVENT
DTSTART;VALUE=DATE:20260109
DTEND;VALUE=DATE:20260112
DTSTAMP:20260420T165636
CREATED:20260108T134255Z
LAST-MODIFIED:20260108T134255Z
UID:16749-1767916800-1768175999@hockeynl.ca
SUMMARY:Grand Falls-Windsor Minor Hockey U13 Invitational
DESCRIPTION:
URL:https://hockeynl.ca/event/grand-falls-windsor-minor-hockey-u13-invitational/
LOCATION:Grand Falls-Windsor\, Grand Falls-Windsor\, NL
CATEGORIES:Tournament
ORGANIZER;CN="Morley Colbourne":MAILTO:morleyc@nf.sympatico.ca
END:VEVENT
BEGIN:VEVENT
DTSTART;VALUE=DATE:20260109
DTEND;VALUE=DATE:20260112
DTSTAMP:20260420T165636
CREATED:20260108T134414Z
LAST-MODIFIED:20260108T134414Z
UID:16751-1767916800-1768175999@hockeynl.ca
SUMMARY:Roy Curlew Memorial U18
DESCRIPTION:
URL:https://hockeynl.ca/event/roy-curlew-memorial-u18-2/
LOCATION:Lewisporte Stadium\, Lewisporte\, NL\, Canada
CATEGORIES:Tournament
ORGANIZER;CN="Jacqueline Freake":MAILTO:jacqueline.freake@gmail.com
END:VEVENT
BEGIN:VEVENT
DTSTART;VALUE=DATE:20260109
DTEND;VALUE=DATE:20260113
DTSTAMP:20260420T165636
CREATED:20260109T164600Z
LAST-MODIFIED:20260109T164600Z
UID:16778-1767916800-1768262399@hockeynl.ca
SUMMARY:U15 Rep Tournament
DESCRIPTION:
URL:https://hockeynl.ca/event/u15-rep-tournament/
LOCATION:Corner Brook\, NL\, Corner Brook Minor Hockey Association\, Corner Brook\, NL\, Canada
CATEGORIES:Tournament
ORGANIZER;CN="Greg Dinney":MAILTO:u15bteam@cbmha.ca
END:VEVENT
BEGIN:VEVENT
DTSTART;VALUE=DATE:20260110
DTEND;VALUE=DATE:20260113
DTSTAMP:20260420T165636
CREATED:20260105T183024Z
LAST-MODIFIED:20260105T183024Z
UID:16734-1768003200-1768262399@hockeynl.ca
SUMMARY:Combines Under 15 Female Home Tournament - Twillingate\, NL
DESCRIPTION:
URL:https://hockeynl.ca/event/combines-under-15-female-home-tournament-twillingate-nl/
LOCATION:George Hawkins Memorial Arena\, Twillingate\, Newfoundland\, Canada
CATEGORIES:Tournament
ORGANIZER;CN="Dawn Dalley":MAILTO:dawndalley@nlesd.ca
END:VEVENT
BEGIN:VEVENT
DTSTART;VALUE=DATE:20260116
DTEND;VALUE=DATE:20260119
DTSTAMP:20260420T165636
CREATED:20250924T123726Z
LAST-MODIFIED:20250924T124952Z
UID:15938-1768521600-1768780799@hockeynl.ca
SUMMARY:BTMHA U18 Invitational
DESCRIPTION:
URL:https://hockeynl.ca/event/btmha-u18-invitational-2/
LOCATION:Cabot Stadium\, Bonavista\, NL\, Canada
CATEGORIES:Tournament
ORGANIZER;CN="Lori Keel":MAILTO:lori_keel@hotmail.com
END:VEVENT
BEGIN:VEVENT
DTSTART;VALUE=DATE:20260116
DTEND;VALUE=DATE:20260119
DTSTAMP:20260420T165636
CREATED:20251016T123322Z
LAST-MODIFIED:20251016T123322Z
UID:16089-1768521600-1768780799@hockeynl.ca
SUMMARY:U11 Placentia Invitational Tournament
DESCRIPTION:
URL:https://hockeynl.ca/event/u11-placentia-invitational-tournament-2/
LOCATION:Placentia\, Placentia\, NL\, Canada
CATEGORIES:Tournament
ORGANIZER;CN="Michelle Manning":MAILTO:michellemanning83@gmail.com
END:VEVENT
BEGIN:VEVENT
DTSTART;VALUE=DATE:20260116
DTEND;VALUE=DATE:20260119
DTSTAMP:20260420T165636
CREATED:20251219T135448Z
LAST-MODIFIED:20251219T135448Z
UID:16643-1768521600-1768780799@hockeynl.ca
SUMMARY:U11 Rep 2 Invitational Tournament
DESCRIPTION:
URL:https://hockeynl.ca/event/u11-rep-2-invitational-tournament-2/
LOCATION:Grand Falls-Windsor\, Grand Falls-Windsor\, NL
CATEGORIES:Tournament
ORGANIZER;CN="Keshia Stuckless":MAILTO:keshia.stuckless@hotmail.com
END:VEVENT
BEGIN:VEVENT
DTSTART;VALUE=DATE:20260116
DTEND;VALUE=DATE:20260118
DTSTAMP:20260420T165636
CREATED:20251219T135642Z
LAST-MODIFIED:20251219T135642Z
UID:16646-1768521600-1768694399@hockeynl.ca
SUMMARY:Port aux Basques U11 Female Rep Invitational
DESCRIPTION:
URL:https://hockeynl.ca/event/port-aux-basques-u11-female-rep-invitational/
LOCATION:Port aux Basques\, Canada
CATEGORIES:Tournament
ORGANIZER;CN="Meridith Simms":MAILTO:meridithsimms@gmail.com
END:VEVENT
BEGIN:VEVENT
DTSTART;VALUE=DATE:20260116
DTEND;VALUE=DATE:20260119
DTSTAMP:20260420T165636
CREATED:20251219T135729Z
LAST-MODIFIED:20251219T135729Z
UID:16650-1768521600-1768780799@hockeynl.ca
SUMMARY:2026 Clipper Cup
DESCRIPTION:
URL:https://hockeynl.ca/event/2026-clipper-cup/
LOCATION:Marystown\, NL\, Canada
CATEGORIES:Tournament
ORGANIZER;CN="Matthew Hackett":MAILTO:matthewhackett@nlesd.ca
END:VEVENT
BEGIN:VEVENT
DTSTART;VALUE=DATE:20260116
DTEND;VALUE=DATE:20260119
DTSTAMP:20260420T165636
CREATED:20251219T172024Z
LAST-MODIFIED:20251219T172024Z
UID:16663-1768521600-1768780799@hockeynl.ca
SUMMARY:Twillingate/NWI U13 Invitational
DESCRIPTION:
URL:https://hockeynl.ca/event/twillingate-nwi-u13-invitational/
LOCATION:George Hawkins Memorial Arena\, Twillingate\, Newfoundland\, Canada
CATEGORIES:Tournament
ORGANIZER;CN="Vicki Guy":MAILTO:vchippett@hotmail.com
END:VEVENT
BEGIN:VEVENT
DTSTART;VALUE=DATE:20260116
DTEND;VALUE=DATE:20260119
DTSTAMP:20260420T165636
CREATED:20251223T165129Z
LAST-MODIFIED:20251223T165129Z
UID:16671-1768521600-1768780799@hockeynl.ca
SUMMARY:Deer Lake U18B Invitational
DESCRIPTION:
URL:https://hockeynl.ca/event/deer-lake-u18b-invitational/
LOCATION:Deer Lake
CATEGORIES:Tournament
ORGANIZER;CN="Stephen Peddle":MAILTO:dimhapresident@gmail.com
END:VEVENT
BEGIN:VEVENT
DTSTART;VALUE=DATE:20260116
DTEND;VALUE=DATE:20260119
DTSTAMP:20260420T165636
CREATED:20251223T165313Z
LAST-MODIFIED:20251223T165313Z
UID:16673-1768521600-1768780799@hockeynl.ca
SUMMARY:U13 Female Burnt Bay Construction Invitational
DESCRIPTION:
URL:https://hockeynl.ca/event/u13-female-burnt-bay-construction-invitational/
LOCATION:Lewisporte Stadium\, Lewisporte\, NL\, Canada
CATEGORIES:Tournament
ORGANIZER;CN="Ashley Lush":MAILTO:mason_bella@icloud.com
END:VEVENT
BEGIN:VEVENT
DTSTART;VALUE=DATE:20260116
DTEND;VALUE=DATE:20260119
DTSTAMP:20260420T165636
CREATED:20251230T124250Z
LAST-MODIFIED:20251230T124250Z
UID:16703-1768521600-1768780799@hockeynl.ca
SUMMARY:Darian Hunt Memorial U15 (1) Tournament
DESCRIPTION:
URL:https://hockeynl.ca/event/darian-hunt-memorial-u15-1-tournament/
LOCATION:Clarenville Eastlink Centre\, Clarenville\, NL\, Canada
CATEGORIES:Tournament
ORGANIZER;CN="Tracy Greening":MAILTO:tracyslade@nlschools.ca
END:VEVENT
BEGIN:VEVENT
DTSTART;VALUE=DATE:20260116
DTEND;VALUE=DATE:20260119
DTSTAMP:20260420T165636
CREATED:20251230T124603Z
LAST-MODIFIED:20251230T124603Z
UID:16709-1768521600-1768780799@hockeynl.ca
SUMMARY:U13 Rep 1
DESCRIPTION:
URL:https://hockeynl.ca/event/u13-rep-1-3/
LOCATION:Bay Arena\, Bay Roberts\, NL\, Canada
CATEGORIES:Tournament
ORGANIZER;CN="Lori Sharpe":MAILTO:lorisharpe@bayarenarovers.ca
END:VEVENT
BEGIN:VEVENT
DTSTART;VALUE=DATE:20260116
DTEND;VALUE=DATE:20260119
DTSTAMP:20260420T165636
CREATED:20260109T155025Z
LAST-MODIFIED:20260109T155025Z
UID:16768-1768521600-1768780799@hockeynl.ca
SUMMARY:U11 Female Invitational
DESCRIPTION:
URL:https://hockeynl.ca/event/u11-female-invitational-3/
LOCATION:Lewisporte Stadium\, Lewisporte\, NL\, Canada
CATEGORIES:Tournament
ORGANIZER;CN="Hope Tetford":MAILTO:hope-ryan@hotmail.com
END:VEVENT
BEGIN:VEVENT
DTSTART;VALUE=DATE:20260116
DTEND;VALUE=DATE:20260119
DTSTAMP:20260420T165636
CREATED:20260109T155248Z
LAST-MODIFIED:20260109T155248Z
UID:16773-1768521600-1768780799@hockeynl.ca
SUMMARY:U15 Co-op Invitational
DESCRIPTION:
URL:https://hockeynl.ca/event/u15-co-op-invitational-2/
LOCATION:Gander Community Centre\, Gander\, NL\, Canada
CATEGORIES:Tournament
ORGANIZER;CN="Mary Keats":MAILTO:mary.keats@hotmail.com
END:VEVENT
BEGIN:VEVENT
DTSTART;VALUE=DATE:20260116
DTEND;VALUE=DATE:20260119
DTSTAMP:20260420T165636
CREATED:20260109T173952Z
LAST-MODIFIED:20260109T173952Z
UID:16781-1768521600-1768780799@hockeynl.ca
SUMMARY:U13 Rep
DESCRIPTION:
URL:https://hockeynl.ca/event/u13-rep-3/
LOCATION:Corner Brook\, NL\, Corner Brook Minor Hockey Association\, Corner Brook\, NL\, Canada
CATEGORIES:Tournament
ORGANIZER;CN="Kristen Bromley":MAILTO:kristen_brown898@hotmail.com
END:VEVENT
BEGIN:VEVENT
DTSTART;VALUE=DATE:20260116
DTEND;VALUE=DATE:20260119
DTSTAMP:20260420T165636
CREATED:20260113T133925Z
LAST-MODIFIED:20260113T133925Z
UID:16794-1768521600-1768780799@hockeynl.ca
SUMMARY:Gros Morne Mountaineers U11 Invitational
DESCRIPTION:
URL:https://hockeynl.ca/event/gros-morne-mountaineers-u11-invitational/
LOCATION:Gros Morne Regional Complex\, 35A West Link \, Rocky Harbour\, NL\, Canada\, Newfoundland and Labrador
CATEGORIES:Tournament
ORGANIZER;CN="Ricky MacDonald":MAILTO:ricky_macdonald@hotmail.com
END:VEVENT
BEGIN:VEVENT
DTSTART;VALUE=DATE:20260116
DTEND;VALUE=DATE:20260118
DTSTAMP:20260420T165636
CREATED:20260113T135019Z
LAST-MODIFIED:20260113T135019Z
UID:16799-1768521600-1768694399@hockeynl.ca
SUMMARY:Straits Rifters U13 Minor
DESCRIPTION:
URL:https://hockeynl.ca/event/straits-rifters-u13-minor/
LOCATION:St. Barbe Arena\, St. Barbe\, NL\, Canada
CATEGORIES:Tournament
ORGANIZER;CN="Deanna Payne":MAILTO:deannapayne1@hotmail.com
END:VEVENT
BEGIN:VEVENT
DTSTART;VALUE=DATE:20260117
DTEND;VALUE=DATE:20260119
DTSTAMP:20260420T165636
CREATED:20250924T123548Z
LAST-MODIFIED:20251201T122917Z
UID:15934-1768608000-1768780799@hockeynl.ca
SUMMARY:Terry Hoskins Memorial U13 Tournament
DESCRIPTION:
URL:https://hockeynl.ca/event/terry-hoskins-memorial-u13-tournament/
LOCATION:Trinity Placentia Arena\, Whitbourne\, NL\, Canada
CATEGORIES:Tournament
ORGANIZER;CN="shane reid":MAILTO:shanereid1986@hotmail.com
END:VEVENT
BEGIN:VEVENT
DTSTART;VALUE=DATE:20260117
DTEND;VALUE=DATE:20260119
DTSTAMP:20260420T165636
CREATED:20260116T142901Z
LAST-MODIFIED:20260116T142901Z
UID:16849-1768608000-1768780799@hockeynl.ca
SUMMARY:U18 Rep a Home Tournament
DESCRIPTION:
URL:https://hockeynl.ca/event/u18-rep-a-home-tournament/
LOCATION:Springdale Stadium Complex
CATEGORIES:Tournament
ORGANIZER;CN="Jodi-Sue Adams":MAILTO:jodisueadams@gmail.com
END:VEVENT
BEGIN:VEVENT
DTSTART;VALUE=DATE:20260123
DTEND;VALUE=DATE:20260126
DTSTAMP:20260420T165636
CREATED:20251105T180303Z
LAST-MODIFIED:20251105T180303Z
UID:16196-1769126400-1769385599@hockeynl.ca
SUMMARY:Female U15 AAA League Weekend #3
DESCRIPTION:
URL:https://hockeynl.ca/event/female-u15-aaa-league-weekend-3/
LOCATION:To Be Determined\, NL\, Canada
CATEGORIES:Tournament
END:VEVENT
BEGIN:VEVENT
DTSTART;VALUE=DATE:20260123
DTEND;VALUE=DATE:20260126
DTSTAMP:20260420T165637
CREATED:20251105T180448Z
LAST-MODIFIED:20251105T180448Z
UID:16204-1769126400-1769385599@hockeynl.ca
SUMMARY:Female U18 AA League Weekend #1
DESCRIPTION:
URL:https://hockeynl.ca/event/female-u18-aa-league-weekend-1/
LOCATION:To Be Determined\, NL\, Canada
CATEGORIES:Tournament
END:VEVENT
END:VCALENDAR