BEGIN:VCALENDAR
VERSION:2.0
PRODID:-//HockeyNL - ECPv6.15.15//NONSGML v1.0//EN
CALSCALE:GREGORIAN
METHOD:PUBLISH
X-ORIGINAL-URL:https://hockeynl.ca
X-WR-CALDESC:Events for HockeyNL
REFRESH-INTERVAL;VALUE=DURATION:PT1H
X-Robots-Tag:noindex
X-PUBLISHED-TTL:PT1H
BEGIN:VTIMEZONE
TZID:UTC
BEGIN:STANDARD
TZOFFSETFROM:+0000
TZOFFSETTO:+0000
TZNAME:UTC
DTSTART:20250101T000000
END:STANDARD
END:VTIMEZONE
BEGIN:VEVENT
DTSTART;VALUE=DATE:20260123
DTEND;VALUE=DATE:20260126
DTSTAMP:20260421T020057
CREATED:20260109T154915Z
LAST-MODIFIED:20260109T154915Z
UID:16765-1769126400-1769385599@hockeynl.ca
SUMMARY:U11 Invitational
DESCRIPTION:
URL:https://hockeynl.ca/event/u11-invitational-4/
LOCATION:Lewisporte Stadium\, Lewisporte\, NL\, Canada
CATEGORIES:Tournament
ORGANIZER;CN="Crystal Randell":MAILTO:crystal_216@hotmail.com
END:VEVENT
BEGIN:VEVENT
DTSTART;VALUE=DATE:20260123
DTEND;VALUE=DATE:20260126
DTSTAMP:20260421T020057
CREATED:20260109T155127Z
LAST-MODIFIED:20260109T155127Z
UID:16771-1769126400-1769385599@hockeynl.ca
SUMMARY:Mary Browns U13 Invitational
DESCRIPTION:
URL:https://hockeynl.ca/event/mary-browns-u13-invitational/
LOCATION:Gander Community Centre\, Gander\, NL\, Canada
CATEGORIES:Tournament
ORGANIZER;CN="Candy Canning":MAILTO:candycanning@hotmail.com
END:VEVENT
BEGIN:VEVENT
DTSTART;VALUE=DATE:20260123
DTEND;VALUE=DATE:20260126
DTSTAMP:20260421T020057
CREATED:20260116T144225Z
LAST-MODIFIED:20260116T144225Z
UID:16854-1769126400-1769385599@hockeynl.ca
SUMMARY:U18 Rep1
DESCRIPTION:
URL:https://hockeynl.ca/event/u18-rep1/
LOCATION:Bay Arena\, Bay Roberts\, NL\, Canada
CATEGORIES:Tournament
ORGANIZER;CN="Andrea Thomas":MAILTO:u18rep1@bayarenarovers.ca
END:VEVENT
BEGIN:VEVENT
DTSTART;VALUE=DATE:20260123
DTEND;VALUE=DATE:20260126
DTSTAMP:20260421T020057
CREATED:20260116T145502Z
LAST-MODIFIED:20260116T145502Z
UID:16870-1769126400-1769385599@hockeynl.ca
SUMMARY:CAMHA U15(F) Tournament
DESCRIPTION:
URL:https://hockeynl.ca/event/camha-u15f-tournament/
LOCATION:Clarenville\, NL\, Clarenville\, NL\, Canada
CATEGORIES:Tournament
ORGANIZER;CN="Kelly Pitts":MAILTO:kellypitts1975@gmail.com
END:VEVENT
BEGIN:VEVENT
DTSTART;VALUE=DATE:20260123
DTEND;VALUE=DATE:20260126
DTSTAMP:20260421T020057
CREATED:20260121T121346Z
LAST-MODIFIED:20260121T121346Z
UID:16896-1769126400-1769385599@hockeynl.ca
SUMMARY:MMHA U18 Rep 2 Invitational Tournament
DESCRIPTION:
URL:https://hockeynl.ca/event/mmha-u18-rep-2-invitational-tournament/
LOCATION:Marystown\, NL\, Canada
CATEGORIES:Tournament
ORGANIZER;CN="Kyla Nolan":MAILTO:mmhau182@outlook.com
END:VEVENT
BEGIN:VEVENT
DTSTART;VALUE=DATE:20260123
DTEND;VALUE=DATE:20260126
DTSTAMP:20260421T020057
CREATED:20260121T121535Z
LAST-MODIFIED:20260121T121535Z
UID:16899-1769126400-1769385599@hockeynl.ca
SUMMARY:Lab Cup
DESCRIPTION:
URL:https://hockeynl.ca/event/lab-cup-2/
LOCATION:Happy Valley-Goose Bay\, Happy Valley-Goose Bay\, NL\, Canada
CATEGORIES:Tournament
ORGANIZER;CN="Eric Power":MAILTO:ericpower@nlschools.ca
END:VEVENT
BEGIN:VEVENT
DTSTART;VALUE=DATE:20260124
DTEND;VALUE=DATE:20260126
DTSTAMP:20260421T020057
CREATED:20250924T123500Z
LAST-MODIFIED:20250924T124943Z
UID:15932-1769212800-1769385599@hockeynl.ca
SUMMARY:Scott Hann Memorial U11 Tournament
DESCRIPTION:
URL:https://hockeynl.ca/event/scott-hann-memorial-u11-tournament/
LOCATION:Trinity Placentia Arena\, Whitbourne\, NL\, Canada
CATEGORIES:Tournament
ORGANIZER;CN="shane reid":MAILTO:shanereid1986@hotmail.com
END:VEVENT
BEGIN:VEVENT
DTSTART;VALUE=DATE:20260124
DTEND;VALUE=DATE:20260126
DTSTAMP:20260421T020057
CREATED:20260116T150507Z
LAST-MODIFIED:20260116T150507Z
UID:16878-1769212800-1769385599@hockeynl.ca
SUMMARY:Glovertown Tornadoes U11 Invitational
DESCRIPTION:
URL:https://hockeynl.ca/event/glovertown-tornadoes-u11-invitational-3/
LOCATION:Glovertown Gardens\, Glovertown\, NL\, Canada
CATEGORIES:Tournament
ORGANIZER;CN="Leigh Ann Hounsell":MAILTO:leigh_ann_33@hotmail.com
END:VEVENT
BEGIN:VEVENT
DTSTART;VALUE=DATE:20260124
DTEND;VALUE=DATE:20260127
DTSTAMP:20260421T020057
CREATED:20260123T150537Z
LAST-MODIFIED:20260123T150537Z
UID:16984-1769212800-1769471999@hockeynl.ca
SUMMARY:U13 Invitational (David Stone)
DESCRIPTION:
URL:https://hockeynl.ca/event/u13-invitational-david-stone/
LOCATION:Stephenville Dome\, -\, Stephenville\, NL\, A0A 1G0\, Canada
CATEGORIES:Tournament
ORGANIZER;CN="Jessica Hillard":MAILTO:Kristahockey@gmail.com
END:VEVENT
BEGIN:VEVENT
DTSTART;VALUE=DATE:20260129
DTEND;VALUE=DATE:20260203
DTSTAMP:20260421T020057
CREATED:20251128T165859Z
LAST-MODIFIED:20251128T165859Z
UID:16490-1769644800-1770076799@hockeynl.ca
SUMMARY:U16 AAA Division Spud
DESCRIPTION:
URL:https://hockeynl.ca/event/u16-aaa-division-spud/
LOCATION:TBD
CATEGORIES:Tournament
ORGANIZER;CN="Robert Bouzane":MAILTO:rbouzane@hockeynl.ca
END:VEVENT
BEGIN:VEVENT
DTSTART;VALUE=DATE:20260130
DTEND;VALUE=DATE:20260202
DTSTAMP:20260421T020057
CREATED:20250924T122101Z
LAST-MODIFIED:20250924T124932Z
UID:15925-1769731200-1769990399@hockeynl.ca
SUMMARY:BTHMA U13 Dean Little Memorial Tournament
DESCRIPTION:
URL:https://hockeynl.ca/event/bthma-u13-dead-little-memorial-tournament/
LOCATION:Cabot Stadium\, Bonavista\, NL\, Canada
CATEGORIES:Tournament
ORGANIZER;CN="Lori Keel":MAILTO:lori_keel@hotmail.com
END:VEVENT
BEGIN:VEVENT
DTSTART;VALUE=DATE:20260130
DTEND;VALUE=DATE:20260202
DTSTAMP:20260421T020057
CREATED:20251016T122703Z
LAST-MODIFIED:20251016T122703Z
UID:16079-1769731200-1769990399@hockeynl.ca
SUMMARY:U18 Placentia Invitational Tournament
DESCRIPTION:
URL:https://hockeynl.ca/event/u18-placentia-invitational-tournament-2/
LOCATION:Placentia\, Placentia\, NL\, Canada
CATEGORIES:Tournament
ORGANIZER;CN="Cathy Duke":MAILTO:cathyduke78@hotmail.com
END:VEVENT
BEGIN:VEVENT
DTSTART;VALUE=DATE:20260130
DTEND;VALUE=DATE:20260202
DTSTAMP:20260421T020057
CREATED:20251121T144016Z
LAST-MODIFIED:20251121T144016Z
UID:16390-1769731200-1769990399@hockeynl.ca
SUMMARY:U15 United Towns Invitational
DESCRIPTION:
URL:https://hockeynl.ca/event/u15-united-towns-invitational/
LOCATION:Fortune\, Fortune\, NL
CATEGORIES:Tournament
ORGANIZER;CN="Stephanie Hillier":MAILTO:stephanie.c.hillier@gmail.com
END:VEVENT
BEGIN:VEVENT
DTSTART;VALUE=DATE:20260130
DTEND;VALUE=DATE:20260201
DTSTAMP:20260421T020057
CREATED:20260109T154516Z
LAST-MODIFIED:20260109T154516Z
UID:16759-1769731200-1769903999@hockeynl.ca
SUMMARY:Alexander Bay Demale Classic
DESCRIPTION:
URL:https://hockeynl.ca/event/alexander-bay-demale-classic/
LOCATION:Glovertown Gardens\, Glovertown\, NL\, Canada
CATEGORIES:Tournament
ORGANIZER;CN="Erika Perry":MAILTO:erikasweetapple@gmail.com
END:VEVENT
BEGIN:VEVENT
DTSTART;VALUE=DATE:20260130
DTEND;VALUE=DATE:20260202
DTSTAMP:20260421T020057
CREATED:20260116T144423Z
LAST-MODIFIED:20260116T144423Z
UID:16857-1769731200-1769990399@hockeynl.ca
SUMMARY:U15 Rep 2
DESCRIPTION:
URL:https://hockeynl.ca/event/u15-rep-2/
LOCATION:Bay Arena\, Bay Roberts\, NL\, Canada
CATEGORIES:Tournament
ORGANIZER;CN="Kirsten Doody":MAILTO:u15rep2@bayarenarovers.ca
END:VEVENT
BEGIN:VEVENT
DTSTART;VALUE=DATE:20260130
DTEND;VALUE=DATE:20260202
DTSTAMP:20260421T020057
CREATED:20260123T142006Z
LAST-MODIFIED:20260123T142006Z
UID:16965-1769731200-1769990399@hockeynl.ca
SUMMARY:MMHA U18F Rep 2 Invitational Tournament
DESCRIPTION:
URL:https://hockeynl.ca/event/mmha-u18f-rep-2-invitational-tournament/
LOCATION:Marystown\, NL\, Canada
CATEGORIES:Tournament
ORGANIZER;CN="Aimee Butler":MAILTO:aimeepardybutler@hotmail.com
END:VEVENT
BEGIN:VEVENT
DTSTART;VALUE=DATE:20260130
DTEND;VALUE=DATE:20260202
DTSTAMP:20260421T020057
CREATED:20260123T142205Z
LAST-MODIFIED:20260123T142205Z
UID:16968-1769731200-1769990399@hockeynl.ca
SUMMARY:Stephenville U13 Invitational
DESCRIPTION:
URL:https://hockeynl.ca/event/stephenville-u13-invitational-2/
LOCATION:Stephenville Dome\, -\, Stephenville\, NL\, A0A 1G0\, Canada
CATEGORIES:Tournament
ORGANIZER;CN="Jody Farrell Parsons":MAILTO:craigeeparsons@hotmail.com
END:VEVENT
BEGIN:VEVENT
DTSTART;VALUE=DATE:20260130
DTEND;VALUE=DATE:20260202
DTSTAMP:20260421T020057
CREATED:20260123T142745Z
LAST-MODIFIED:20260123T142745Z
UID:16972-1769731200-1769990399@hockeynl.ca
SUMMARY:Exploits Rapids U13 Invitational
DESCRIPTION:
URL:https://hockeynl.ca/event/exploits-rapids-u13-invitational/
LOCATION:Grand Falls-Windsor\, Grand Falls-Windsor\, NL
CATEGORIES:Tournament
ORGANIZER;CN="Ally sheppard":MAILTO:allysheppard@royallepage.ca
END:VEVENT
BEGIN:VEVENT
DTSTART;VALUE=DATE:20260130
DTEND;VALUE=DATE:20260202
DTSTAMP:20260421T020057
CREATED:20260123T143837Z
LAST-MODIFIED:20260123T143837Z
UID:16975-1769731200-1769990399@hockeynl.ca
SUMMARY:U11A Invitational Tournament
DESCRIPTION:
URL:https://hockeynl.ca/event/u11a-invitational-tournament/
LOCATION:Grand Falls-Windsor\, Grand Falls-Windsor\, NL
CATEGORIES:Tournament
ORGANIZER;CN="Robin Gale":MAILTO:gfwmha.manager@gmail.com
END:VEVENT
BEGIN:VEVENT
DTSTART;VALUE=DATE:20260130
DTEND;VALUE=DATE:20260202
DTSTAMP:20260421T020057
CREATED:20260123T145001Z
LAST-MODIFIED:20260123T145001Z
UID:16978-1769731200-1769990399@hockeynl.ca
SUMMARY:MMHA U18F Rep 1 Invitational Tournament
DESCRIPTION:
URL:https://hockeynl.ca/event/mmha-u18f-rep-1-invitational-tournament/
LOCATION:Marystown\, NL\, Canada
CATEGORIES:Tournament
ORGANIZER;CN="Danielle Edwards":MAILTO:u18femalemariners@gmail.com
END:VEVENT
BEGIN:VEVENT
DTSTART;VALUE=DATE:20260130
DTEND;VALUE=DATE:20260201
DTSTAMP:20260421T020057
CREATED:20260123T164049Z
LAST-MODIFIED:20260123T164049Z
UID:17001-1769731200-1769903999@hockeynl.ca
SUMMARY:Alexander Boy female Invitational
DESCRIPTION:
URL:https://hockeynl.ca/event/alexander-boy-female-invitational/
LOCATION:Glovertown Gardens\, Glovertown\, NL\, Canada
CATEGORIES:Tournament
ORGANIZER;CN="Heidi Simmonds":MAILTO:heidisimmonds83@gmail.com
END:VEVENT
BEGIN:VEVENT
DTSTART;VALUE=DATE:20260130
DTEND;VALUE=DATE:20260202
DTSTAMP:20260421T020057
CREATED:20260123T165249Z
LAST-MODIFIED:20260123T165249Z
UID:17010-1769731200-1769990399@hockeynl.ca
SUMMARY:Lloyd Neil Memorial Tournament
DESCRIPTION:
URL:https://hockeynl.ca/event/lloyd-neil-memorial-tournament-3/
LOCATION:Cee Bees minor Hockey\, 1 CeeBee Way\, Harbour Grace\, NL A0A 2N0.
CATEGORIES:Tournament
ORGANIZER;CN="Tara Hunt":MAILTO:CEEBEESPRESIDENT@GMAIL.COM
END:VEVENT
BEGIN:VEVENT
DTSTART;VALUE=DATE:20260130
DTEND;VALUE=DATE:20260201
DTSTAMP:20260421T020057
CREATED:20260127T131412Z
LAST-MODIFIED:20260127T131412Z
UID:17027-1769731200-1769903999@hockeynl.ca
SUMMARY:U18 INVITATIONAL BATTLE OF THE NORTHERN PEN
DESCRIPTION:
URL:https://hockeynl.ca/event/u18-invitational-battle-of-the-northern-pen/
LOCATION:Twin Town Sports Complex\, NL\, Canada
CATEGORIES:Tournament
ORGANIZER;CN="Alisa Gaslard":MAILTO:alisagaslard@hotmail.com
END:VEVENT
BEGIN:VEVENT
DTSTART;VALUE=DATE:20260130
DTEND;VALUE=DATE:20260202
DTSTAMP:20260421T020057
CREATED:20260127T132003Z
LAST-MODIFIED:20260127T132003Z
UID:17030-1769731200-1769990399@hockeynl.ca
SUMMARY:Art Tilley Memorial
DESCRIPTION:
URL:https://hockeynl.ca/event/art-tilley-memorial/
LOCATION:CBS Arena & Robert French Memorial Stadium\, CBS\, Newfoundland\, Canada
CATEGORIES:Tournament
ORGANIZER;CN="Patrick Carroll":MAILTO:patrickcarroll@nlschools.ca
END:VEVENT
BEGIN:VEVENT
DTSTART;VALUE=DATE:20260131
DTEND;VALUE=DATE:20260202
DTSTAMP:20260421T020057
CREATED:20250919T155935Z
LAST-MODIFIED:20250919T160541Z
UID:15879-1769817600-1769990399@hockeynl.ca
SUMMARY:Eric Clarke Memorial U11 Female A
DESCRIPTION:
URL:https://hockeynl.ca/event/eric-clarke-memorial/
LOCATION:Trinity Placentia Arena\, Whitbourne\, NL\, Canada
CATEGORIES:Tournament
ORGANIZER;CN="shane reid":MAILTO:shanereid1986@hotmail.com
END:VEVENT
BEGIN:VEVENT
DTSTART;VALUE=DATE:20260131
DTEND;VALUE=DATE:20260202
DTSTAMP:20260421T020057
CREATED:20260123T153447Z
LAST-MODIFIED:20260123T153447Z
UID:16993-1769817600-1769990399@hockeynl.ca
SUMMARY:Baie Verte Sabres U11 Female Invitational
DESCRIPTION:
URL:https://hockeynl.ca/event/baie-verte-sabres-u11-female-invitational/
LOCATION:Baie Verte\, NL\, Laura Lewis Ave\, Baie Verte\, NL A0K 1B0
CATEGORIES:Tournament
ORGANIZER;CN="Sherri-Lynn Rice":MAILTO:sherrilynn.rice@hotmail.com
END:VEVENT
BEGIN:VEVENT
DTSTART;VALUE=DATE:20260131
DTEND;VALUE=DATE:20260202
DTSTAMP:20260421T020057
CREATED:20260123T164515Z
LAST-MODIFIED:20260123T164515Z
UID:17003-1769817600-1769990399@hockeynl.ca
SUMMARY:Twillingate/NWI U11 Female Invitational
DESCRIPTION:
URL:https://hockeynl.ca/event/twillingate-nwi-u11-female-invitational/
LOCATION:George Hawkins Memorial Arena\, Twillingate\, Newfoundland\, Canada
CATEGORIES:Tournament
ORGANIZER;CN="Katie Rosenthallewis":MAILTO:krosenthal@gmail.com
END:VEVENT
BEGIN:VEVENT
DTSTART;VALUE=DATE:20260131
DTEND;VALUE=DATE:20260202
DTSTAMP:20260421T020057
CREATED:20260127T130946Z
LAST-MODIFIED:20260127T130946Z
UID:17024-1769817600-1769990399@hockeynl.ca
SUMMARY:Twin Rock Tide U15 Tournament
DESCRIPTION:
URL:https://hockeynl.ca/event/twin-rock-tide-u15-tournament/
LOCATION:Gros Morne Regional Complex\, 35A West Link \, Rocky Harbour\, NL\, Canada\, Newfoundland and Labrador
CATEGORIES:Tournament
ORGANIZER;CN="Stephanie Stagg":MAILTO:stephaniee886q@gmail.com
END:VEVENT
BEGIN:VEVENT
DTSTART;VALUE=DATE:20260206
DTEND;VALUE=DATE:20260209
DTSTAMP:20260421T020057
CREATED:20251016T123201Z
LAST-MODIFIED:20251016T123201Z
UID:16087-1770336000-1770595199@hockeynl.ca
SUMMARY:U13 Placentia Invitational Tournament
DESCRIPTION:
URL:https://hockeynl.ca/event/u13-placentia-invitational-tournament-2/
LOCATION:Placentia\, Placentia\, NL\, Canada
CATEGORIES:Tournament
ORGANIZER;CN="Genny Picco":MAILTO:gennypicco@hotmail.com
END:VEVENT
BEGIN:VEVENT
DTSTART;VALUE=DATE:20260206
DTEND;VALUE=DATE:20260209
DTSTAMP:20260421T020057
CREATED:20251128T165459Z
LAST-MODIFIED:20251128T165459Z
UID:16478-1770336000-1770595199@hockeynl.ca
SUMMARY:U15 AAA Division Week 7
DESCRIPTION:
URL:https://hockeynl.ca/event/u15-aaa-division-week-7/
LOCATION:Marystown\, NL\, Canada
CATEGORIES:Tournament
ORGANIZER;CN="Robert Bouzane":MAILTO:rbouzane@hockeynl.ca
END:VEVENT
END:VCALENDAR