BEGIN:VCALENDAR
VERSION:2.0
PRODID:-//HockeyNL - ECPv6.15.15//NONSGML v1.0//EN
CALSCALE:GREGORIAN
METHOD:PUBLISH
X-ORIGINAL-URL:https://hockeynl.ca
X-WR-CALDESC:Events for HockeyNL
REFRESH-INTERVAL;VALUE=DURATION:PT1H
X-Robots-Tag:noindex
X-PUBLISHED-TTL:PT1H
BEGIN:VTIMEZONE
TZID:UTC
BEGIN:STANDARD
TZOFFSETFROM:+0000
TZOFFSETTO:+0000
TZNAME:UTC
DTSTART:20250101T000000
END:STANDARD
END:VTIMEZONE
BEGIN:VEVENT
DTSTART;VALUE=DATE:20260131
DTEND;VALUE=DATE:20260202
DTSTAMP:20260421T012112
CREATED:20250919T155935Z
LAST-MODIFIED:20250919T160541Z
UID:15879-1769817600-1769990399@hockeynl.ca
SUMMARY:Eric Clarke Memorial U11 Female A
DESCRIPTION:
URL:https://hockeynl.ca/event/eric-clarke-memorial/
LOCATION:Trinity Placentia Arena\, Whitbourne\, NL\, Canada
CATEGORIES:Tournament
ORGANIZER;CN="shane reid":MAILTO:shanereid1986@hotmail.com
END:VEVENT
BEGIN:VEVENT
DTSTART;VALUE=DATE:20260131
DTEND;VALUE=DATE:20260202
DTSTAMP:20260421T012112
CREATED:20260123T153447Z
LAST-MODIFIED:20260123T153447Z
UID:16993-1769817600-1769990399@hockeynl.ca
SUMMARY:Baie Verte Sabres U11 Female Invitational
DESCRIPTION:
URL:https://hockeynl.ca/event/baie-verte-sabres-u11-female-invitational/
LOCATION:Baie Verte\, NL\, Laura Lewis Ave\, Baie Verte\, NL A0K 1B0
CATEGORIES:Tournament
ORGANIZER;CN="Sherri-Lynn Rice":MAILTO:sherrilynn.rice@hotmail.com
END:VEVENT
BEGIN:VEVENT
DTSTART;VALUE=DATE:20260131
DTEND;VALUE=DATE:20260202
DTSTAMP:20260421T012112
CREATED:20260123T164515Z
LAST-MODIFIED:20260123T164515Z
UID:17003-1769817600-1769990399@hockeynl.ca
SUMMARY:Twillingate/NWI U11 Female Invitational
DESCRIPTION:
URL:https://hockeynl.ca/event/twillingate-nwi-u11-female-invitational/
LOCATION:George Hawkins Memorial Arena\, Twillingate\, Newfoundland\, Canada
CATEGORIES:Tournament
ORGANIZER;CN="Katie Rosenthallewis":MAILTO:krosenthal@gmail.com
END:VEVENT
BEGIN:VEVENT
DTSTART;VALUE=DATE:20260131
DTEND;VALUE=DATE:20260202
DTSTAMP:20260421T012112
CREATED:20260127T130946Z
LAST-MODIFIED:20260127T130946Z
UID:17024-1769817600-1769990399@hockeynl.ca
SUMMARY:Twin Rock Tide U15 Tournament
DESCRIPTION:
URL:https://hockeynl.ca/event/twin-rock-tide-u15-tournament/
LOCATION:Gros Morne Regional Complex\, 35A West Link \, Rocky Harbour\, NL\, Canada\, Newfoundland and Labrador
CATEGORIES:Tournament
ORGANIZER;CN="Stephanie Stagg":MAILTO:stephaniee886q@gmail.com
END:VEVENT
BEGIN:VEVENT
DTSTART;VALUE=DATE:20260206
DTEND;VALUE=DATE:20260209
DTSTAMP:20260421T012112
CREATED:20251016T123201Z
LAST-MODIFIED:20251016T123201Z
UID:16087-1770336000-1770595199@hockeynl.ca
SUMMARY:U13 Placentia Invitational Tournament
DESCRIPTION:
URL:https://hockeynl.ca/event/u13-placentia-invitational-tournament-2/
LOCATION:Placentia\, Placentia\, NL\, Canada
CATEGORIES:Tournament
ORGANIZER;CN="Genny Picco":MAILTO:gennypicco@hotmail.com
END:VEVENT
BEGIN:VEVENT
DTSTART;VALUE=DATE:20260206
DTEND;VALUE=DATE:20260209
DTSTAMP:20260421T012112
CREATED:20251128T165459Z
LAST-MODIFIED:20251128T165459Z
UID:16478-1770336000-1770595199@hockeynl.ca
SUMMARY:U15 AAA Division Week 7
DESCRIPTION:
URL:https://hockeynl.ca/event/u15-aaa-division-week-7/
LOCATION:Marystown\, NL\, Canada
CATEGORIES:Tournament
ORGANIZER;CN="Robert Bouzane":MAILTO:rbouzane@hockeynl.ca
END:VEVENT
BEGIN:VEVENT
DTSTART;VALUE=DATE:20260206
DTEND;VALUE=DATE:20260209
DTSTAMP:20260421T012112
CREATED:20260109T124730Z
LAST-MODIFIED:20260109T124730Z
UID:16756-1770336000-1770595199@hockeynl.ca
SUMMARY:Female U18 Hawks Invitational Tournament
DESCRIPTION:
URL:https://hockeynl.ca/event/female-u18-hawks-invitational-tournament/
LOCATION:Lewisporte Stadium\, Lewisporte\, NL\, Canada
CATEGORIES:Tournament
ORGANIZER;CN="Sharon McKenna":MAILTO:sharonroebotham@yahoo.ca
END:VEVENT
BEGIN:VEVENT
DTSTART;VALUE=DATE:20260206
DTEND;VALUE=DATE:20260216
DTSTAMP:20260421T012112
CREATED:20260109T155345Z
LAST-MODIFIED:20260109T155345Z
UID:16776-1770336000-1771199999@hockeynl.ca
SUMMARY:CBS Jr & Sr High Shield (Male and Female)
DESCRIPTION:
URL:https://hockeynl.ca/event/cbs-jr-sr-high-shield-male-and-female-2/
LOCATION:CBS Arena\, Canada
CATEGORIES:Tournament
ORGANIZER;CN="Chad Brinson":MAILTO:chad.brinson@conceptionbaysouth.ca
END:VEVENT
BEGIN:VEVENT
DTSTART;VALUE=DATE:20260206
DTEND;VALUE=DATE:20260209
DTSTAMP:20260421T012112
CREATED:20260116T143648Z
LAST-MODIFIED:20260116T143648Z
UID:16851-1770336000-1770595199@hockeynl.ca
SUMMARY:U18 Rep2
DESCRIPTION:
URL:https://hockeynl.ca/event/u18-rep2-2/
LOCATION:Bay Arena\, Bay Roberts\, NL\, Canada
CATEGORIES:Tournament
ORGANIZER;CN="Susan Fifield":MAILTO:u18rep2@bayarenarovers.ca
END:VEVENT
BEGIN:VEVENT
DTSTART;VALUE=DATE:20260206
DTEND;VALUE=DATE:20260209
DTSTAMP:20260421T012112
CREATED:20260116T145029Z
LAST-MODIFIED:20260116T145029Z
UID:16863-1770336000-1770595199@hockeynl.ca
SUMMARY:53rd Annual Baxter Tuck U11 Tournament
DESCRIPTION:
URL:https://hockeynl.ca/event/53rd-annual-baxter-tuck-u11-tournament/
LOCATION:Clarenville\, NL\, Clarenville\, NL\, Canada
CATEGORIES:Tournament
ORGANIZER;CN="Ashley Simms":MAILTO:ashleysimms84@hotmail.com
END:VEVENT
BEGIN:VEVENT
DTSTART;VALUE=DATE:20260206
DTEND;VALUE=DATE:20260209
DTSTAMP:20260421T012112
CREATED:20260123T142509Z
LAST-MODIFIED:20260123T142509Z
UID:16970-1770336000-1770595199@hockeynl.ca
SUMMARY:Deer Lake Under 15 Invitational
DESCRIPTION:
URL:https://hockeynl.ca/event/deer-lake-under-15-invitational-3/
LOCATION:Deer Lake
CATEGORIES:Tournament
ORGANIZER;CN="Stephen Peddle":MAILTO:dimhapresident@gmail.com
END:VEVENT
BEGIN:VEVENT
DTSTART;VALUE=DATE:20260206
DTEND;VALUE=DATE:20260209
DTSTAMP:20260421T012112
CREATED:20260123T151856Z
LAST-MODIFIED:20260123T151856Z
UID:16990-1770336000-1770595199@hockeynl.ca
SUMMARY:Holly Goudie Tournament
DESCRIPTION:
URL:https://hockeynl.ca/event/holly-goudie-tournament/
LOCATION:Springdale Stadium Complex
CATEGORIES:Tournament
ORGANIZER;CN="Erica Butt":MAILTO:erica_butt@hotmail.com
END:VEVENT
BEGIN:VEVENT
DTSTART;VALUE=DATE:20260206
DTEND;VALUE=DATE:20260309
DTSTAMP:20260421T012112
CREATED:20260123T163906Z
LAST-MODIFIED:20260123T163906Z
UID:16997-1770336000-1773014399@hockeynl.ca
SUMMARY:U13 Femaleb Holly Goudie Memorial
DESCRIPTION:
URL:https://hockeynl.ca/event/u13-femaleb-holly-goudie-memorial/
LOCATION:Springdale Stadium Complex
CATEGORIES:Tournament
ORGANIZER;CN="Crissie Downey":MAILTO:crissiecroucher52@hotmail.com
END:VEVENT
BEGIN:VEVENT
DTSTART;VALUE=DATE:20260206
DTEND;VALUE=DATE:20260209
DTSTAMP:20260421T012112
CREATED:20260123T165101Z
LAST-MODIFIED:20260123T165101Z
UID:17006-1770336000-1770595199@hockeynl.ca
SUMMARY:Bobby and Jerry Thorns Memorial
DESCRIPTION:
URL:https://hockeynl.ca/event/bobby-and-jerry-thorns-memorial/
LOCATION:Cee Bees minor Hockey\, 1 CeeBee Way\, Harbour Grace\, NL A0A 2N0.
CATEGORIES:Tournament
ORGANIZER;CN="Courtney Noseworthy":MAILTO:CEEBEESPRESIDENT@GMAIL.COM
END:VEVENT
BEGIN:VEVENT
DTSTART;VALUE=DATE:20260206
DTEND;VALUE=DATE:20260209
DTSTAMP:20260421T012112
CREATED:20260128T170255Z
LAST-MODIFIED:20260128T170255Z
UID:17055-1770336000-1770595199@hockeynl.ca
SUMMARY:U18 Ethan Penney Memorial Tournament
DESCRIPTION:
URL:https://hockeynl.ca/event/u18-ethan-penney-memorial-tournament-2/
LOCATION:Bishop Falls\, Bishop's Falls\, NL\, Canada
CATEGORIES:Tournament
ORGANIZER;CN="Stefanie Noseworthy":MAILTO:stefaniepenney@hotmail.com
END:VEVENT
BEGIN:VEVENT
DTSTART;VALUE=DATE:20260206
DTEND;VALUE=DATE:20260209
DTSTAMP:20260421T012112
CREATED:20260128T170500Z
LAST-MODIFIED:20260128T170500Z
UID:17058-1770336000-1770595199@hockeynl.ca
SUMMARY:U15 Tom Furey Memorial Tournament
DESCRIPTION:
URL:https://hockeynl.ca/event/u15-tom-furey-memorial-tournament/
LOCATION:Bishop Falls\, Bishop's Falls\, NL\, Canada
CATEGORIES:Tournament
ORGANIZER;CN="Samantha Bokenfor":MAILTO:s_callahan16@hotmail.com
END:VEVENT
BEGIN:VEVENT
DTSTART;VALUE=DATE:20260206
DTEND;VALUE=DATE:20260209
DTSTAMP:20260421T012112
CREATED:20260202T144816Z
LAST-MODIFIED:20260202T144816Z
UID:17068-1770336000-1770595199@hockeynl.ca
SUMMARY:GBS U13 Invitational Tournament
DESCRIPTION:
URL:https://hockeynl.ca/event/gbs-u13-invitational-tournament/
LOCATION:Green Bay South Arena\, Canada
CATEGORIES:Tournament
ORGANIZER;CN="Robert Williams":MAILTO:robertwilliams50@hotmail.com
END:VEVENT
BEGIN:VEVENT
DTSTART;VALUE=DATE:20260206
DTEND;VALUE=DATE:20260209
DTSTAMP:20260421T012112
CREATED:20260206T182017Z
LAST-MODIFIED:20260206T182017Z
UID:17168-1770336000-1770595199@hockeynl.ca
SUMMARY:15/U18 Invitational Tournament
DESCRIPTION:
URL:https://hockeynl.ca/event/15-u18-invitational-tournament/
LOCATION:Lewisporte Stadium\, Lewisporte\, NL\, Canada
CATEGORIES:Tournament
ORGANIZER;CN="Janine freake":MAILTO:jay.freake@outlook.com
END:VEVENT
BEGIN:VEVENT
DTSTART;VALUE=DATE:20260207
DTEND;VALUE=DATE:20260209
DTSTAMP:20260421T012112
CREATED:20260127T130308Z
LAST-MODIFIED:20260127T130308Z
UID:17021-1770422400-1770595199@hockeynl.ca
SUMMARY:Straits Rifters Invitational
DESCRIPTION:
URL:https://hockeynl.ca/event/straits-rifters-invitational/
LOCATION:Rocky Harbour\, Rocky Harbour\, NL
CATEGORIES:Tournament
ORGANIZER;CN="Emma Hynes":MAILTO:emmacehynes@gmail.com
END:VEVENT
BEGIN:VEVENT
DTSTART;VALUE=DATE:20260207
DTEND;VALUE=DATE:20260210
DTSTAMP:20260421T012112
CREATED:20260202T145024Z
LAST-MODIFIED:20260202T145024Z
UID:17070-1770422400-1770681599@hockeynl.ca
SUMMARY:Matthew Sargent U18 Invitational
DESCRIPTION:
URL:https://hockeynl.ca/event/matthew-sargent-u18-invitational/
LOCATION:Gander Community Centre\, Gander\, NL\, Canada
CATEGORIES:Tournament
ORGANIZER;CN="Lorelei Lynch":MAILTO:ss70camaro@hotmail.com
END:VEVENT
BEGIN:VEVENT
DTSTART;VALUE=DATE:20260212
DTEND;VALUE=DATE:20260216
DTSTAMP:20260421T012112
CREATED:20260206T150110Z
LAST-MODIFIED:20260206T150110Z
UID:17156-1770854400-1771199999@hockeynl.ca
SUMMARY:Confederation Cup 2026
DESCRIPTION:
URL:https://hockeynl.ca/event/confederation-cup-2026/
LOCATION:Paradise Double Ice Complex\, Paradise\, Newfoundland\, Canada
CATEGORIES:Tournament
ORGANIZER;CN="Christopher Druken":MAILTO:christopherdruken@nlschools.ca
END:VEVENT
BEGIN:VEVENT
DTSTART;VALUE=DATE:20260213
DTEND;VALUE=DATE:20260216
DTSTAMP:20260421T012112
CREATED:20250924T123202Z
LAST-MODIFIED:20250924T124925Z
UID:15928-1770940800-1771199999@hockeynl.ca
SUMMARY:Ken Woodman Memorial U15 Tournament
DESCRIPTION:
URL:https://hockeynl.ca/event/ken-woodman-memorial-u15-tournament/
LOCATION:Trinity Placentia Arena\, Whitbourne\, NL\, Canada
CATEGORIES:Tournament
ORGANIZER;CN="shane reid":MAILTO:shanereid1986@hotmail.com
END:VEVENT
BEGIN:VEVENT
DTSTART;VALUE=DATE:20260213
DTEND;VALUE=DATE:20260216
DTSTAMP:20260421T012112
CREATED:20251105T180111Z
LAST-MODIFIED:20251105T180111Z
UID:16186-1770940800-1771199999@hockeynl.ca
SUMMARY:Female U13 AAA League Weekend #2
DESCRIPTION:
URL:https://hockeynl.ca/event/female-u13-aaa-league-weekend-2-2/
LOCATION:To Be Determined\, NL\, Canada
CATEGORIES:Tournament
END:VEVENT
BEGIN:VEVENT
DTSTART;VALUE=DATE:20260213
DTEND;VALUE=DATE:20260216
DTSTAMP:20260421T012112
CREATED:20251128T164452Z
LAST-MODIFIED:20251128T164452Z
UID:16464-1770940800-1771199999@hockeynl.ca
SUMMARY:U13 AAA Division Week 7
DESCRIPTION:
URL:https://hockeynl.ca/event/u13-aaa-division-week-7/
LOCATION:Gander\, NL\, 100 Elizabeth Drive\, Gander\, Newfoundland\, A1V 1G7\, Canada
CATEGORIES:Tournament
ORGANIZER;CN="Robert Bouzane":MAILTO:rbouzane@hockeynl.ca
END:VEVENT
BEGIN:VEVENT
DTSTART;VALUE=DATE:20260213
DTEND;VALUE=DATE:20260216
DTSTAMP:20260421T012112
CREATED:20251128T170010Z
LAST-MODIFIED:20251128T170010Z
UID:16492-1770940800-1771199999@hockeynl.ca
SUMMARY:U16 AAA Division Week 7
DESCRIPTION:
URL:https://hockeynl.ca/event/u16-aaa-division-week-7/
LOCATION:Marystown\, NL\, Canada
CATEGORIES:Tournament
ORGANIZER;CN="Robert Bouzane":MAILTO:rbouzane@hockeynl.ca
END:VEVENT
BEGIN:VEVENT
DTSTART;VALUE=DATE:20260213
DTEND;VALUE=DATE:20260216
DTSTAMP:20260421T012112
CREATED:20260109T154808Z
LAST-MODIFIED:20260109T154808Z
UID:16762-1770940800-1771199999@hockeynl.ca
SUMMARY:Fogo Island Minor Hockey U11 Invitational Tournament
DESCRIPTION:
URL:https://hockeynl.ca/event/fogo-island-minor-hockey-u11-invitational-tournament/
LOCATION:Iceberg Arena\, NL\, Canada
CATEGORIES:Tournament
ORGANIZER;CN="Cindy Broders":MAILTO:cindybroders16@hotmail.com
END:VEVENT
BEGIN:VEVENT
DTSTART;VALUE=DATE:20260213
DTEND;VALUE=DATE:20260216
DTSTAMP:20260421T012112
CREATED:20260116T150051Z
LAST-MODIFIED:20260116T150051Z
UID:16875-1770940800-1771199999@hockeynl.ca
SUMMARY:Stephenville U11 Invitational
DESCRIPTION:
URL:https://hockeynl.ca/event/stephenville-u11-invitational/
LOCATION:Stephenville Dome\, -\, Stephenville\, NL\, A0A 1G0\, Canada
CATEGORIES:Tournament
ORGANIZER;CN="Jodi barron":MAILTO:jodee3@hotmail.com
END:VEVENT
BEGIN:VEVENT
DTSTART;VALUE=DATE:20260213
DTEND;VALUE=DATE:20260216
DTSTAMP:20260421T012112
CREATED:20260123T145544Z
LAST-MODIFIED:20260123T145544Z
UID:16981-1770940800-1771199999@hockeynl.ca
SUMMARY:Exploits Rapids U15 Invitational
DESCRIPTION:
URL:https://hockeynl.ca/event/exploits-rapids-u15-invitational/
LOCATION:Botwood\, NL\, Pleasantview Road\, Botwood\, NL\, A0H 1E0\, Canada
CATEGORIES:Tournament
ORGANIZER;CN="Jennifer Foss":MAILTO:foss.jen@gmail.com
END:VEVENT
BEGIN:VEVENT
DTSTART;VALUE=DATE:20260213
DTEND;VALUE=DATE:20260216
DTSTAMP:20260421T012112
CREATED:20260205T145948Z
LAST-MODIFIED:20260205T150014Z
UID:17114-1770940800-1771199999@hockeynl.ca
SUMMARY:Lake Melville Xtreme Mega Tournament
DESCRIPTION:
URL:https://hockeynl.ca/event/lmx-mega/
LOCATION:Happy Valley-Goose Bay\, Happy Valley-Goose Bay\, NL\, Canada
CATEGORIES:Tournament
ORGANIZER;CN="Eric Power":MAILTO:ericpower@nlschools.ca
END:VEVENT
BEGIN:VEVENT
DTSTART;VALUE=DATE:20260213
DTEND;VALUE=DATE:20260216
DTSTAMP:20260421T012112
CREATED:20260206T145156Z
LAST-MODIFIED:20260206T145156Z
UID:17150-1770940800-1771199999@hockeynl.ca
SUMMARY:Green Bay South U18 Invitational Tournament
DESCRIPTION:
URL:https://hockeynl.ca/event/green-bay-south-u18-invitational-tournament-2/
LOCATION:Green Bay South Arena\, Canada
CATEGORIES:Tournament
ORGANIZER;CN="Jeremy Winsor":MAILTO:jeremyjwinsor@outlook.com
END:VEVENT
END:VCALENDAR